BEGIN:VCALENDAR
VERSION:2.0
CALSCALE:GREGORIAN
PRODID:adamgibbons/ics
METHOD:PUBLISH
X-PUBLISHED-TTL:PT1H
BEGIN:VEVENT
UID:4188@kiktik.de
SUMMARY:Digital Café mit den DigiLotsen Krefeld im Nachbarschaftstreff Dä N
	obber
DTSTAMP:20260421T175030Z
DTSTART:20260427T130000Z
DTEND:20260427T150000Z
URL:https://kiktik.de/event/digital-cafe-mit-den-digilotsen-krefeld-im-nach
	barschaftstreff-da-nobber
LOCATION:Quartierstreffpunkt Dä Nobber - Glockenspitz 213\, 47809 Krefeld
STATUS:CONFIRMED
CATEGORIES:DIGITALES,KREFELD
END:VEVENT
BEGIN:VEVENT
UID:4215@kiktik.de
SUMMARY:T&A CONNECTION
DTSTAMP:20260421T175030Z
DTSTART:20260502T170000Z
DTEND:20260502T213000Z
URL:https://kiktik.de/event/tanda-connection
LOCATION:Jazzkeller Krefeld - Lohstraße 92\, 47798 Krefeld
STATUS:CONFIRMED
CATEGORIES:DIGITALES,KREFELD,Musik
END:VEVENT
BEGIN:VEVENT
UID:4249@kiktik.de
SUMMARY:Kawai Konzert Yu Yuewen
DTSTAMP:20260421T175030Z
DTSTART:20260508T170000Z
DTEND:20260508T190000Z
URL:https://kiktik.de/event/kawai-konzert-yu-yuewen
LOCATION:Musikschule Krefeld - Uerdinger Straße 500\, 47800 Krefeld
STATUS:CONFIRMED
CATEGORIES:DIGITALES,KREFELD,Musik
END:VEVENT
BEGIN:VEVENT
UID:4254@kiktik.de
SUMMARY:Templeton Pek
DTSTAMP:20260421T175030Z
DTSTART:20260508T180000Z
DTEND:20260508T180000Z
URL:https://kiktik.de/event/templeton-pek
LOCATION:Kulturrampe Krefeld - siehe Quelle
STATUS:CONFIRMED
CATEGORIES:DIGITALES,KREFELD,Musik
END:VEVENT
BEGIN:VEVENT
UID:4275@kiktik.de
SUMMARY:Digital Café der DigiLotsen Krefeld beim DRK-Kreisverband Krefeld e
	.V.
DTSTAMP:20260421T175030Z
DTSTART:20260511T130000Z
DTEND:20260511T143000Z
URL:https://kiktik.de/event/digital-cafe-der-digilotsen-krefeld-beim-drk-kr
	eisverband-krefeld-ev-5
LOCATION:DRK-Kreisverband Krefeld e.V. - Uerdinger Straße 609\, 47800 Krefe
	ld
STATUS:CONFIRMED
CATEGORIES:DIGITALES,KREFELD,Musik
END:VEVENT
BEGIN:VEVENT
UID:4292@kiktik.de
SUMMARY:Wildpflanzen-Erkundung in Hohenbudberg
DTSTAMP:20260421T175030Z
DTSTART:20260516T090000Z
DTEND:20260516T113000Z
URL:https://kiktik.de/event/wildpflanzen-erkundung-in-hohenbudberg
LOCATION:outbound - Am Hauptbahnhof 1\, Krefeld
STATUS:CONFIRMED
CATEGORIES:DIGITALES,GLAUBE,KREFELD
END:VEVENT
BEGIN:VEVENT
UID:4297@kiktik.de
SUMMARY:Ben Granfelt & Band
DTSTAMP:20260421T175030Z
DTSTART:20260516T170000Z
DTEND:20260516T213000Z
URL:https://kiktik.de/event/ben-granfelt-and-band
LOCATION:Jazzkeller Krefeld - Lohstraße 92\, 47798 Krefeld
STATUS:CONFIRMED
CATEGORIES:DIGITALES,KREFELD,Musik
END:VEVENT
BEGIN:VEVENT
UID:4312@kiktik.de
SUMMARY:Digital Café der DigiLotsen Krefeld in der VHS
DTSTAMP:20260421T175030Z
DTSTART:20260521T130000Z
DTEND:20260521T150000Z
URL:https://kiktik.de/event/digital-cafe-der-digilotsen-krefeld-in-der-vhs-
	4
LOCATION:Volkshochschule Krefeld - Von-der-Leyen-Platz 2\, 47798 Krefeld
STATUS:CONFIRMED
CATEGORIES:DIGITALES,KREFELD
END:VEVENT
BEGIN:VEVENT
UID:4351@kiktik.de
SUMMARY:Wienstroer und Band
DTSTAMP:20260421T175030Z
DTSTART:20260529T170000Z
DTEND:20260529T213000Z
URL:https://kiktik.de/event/wienstroer-und-band
LOCATION:Jazzkeller Krefeld - Lohstraße 92\, 47798 Krefeld
STATUS:CONFIRMED
CATEGORIES:DIGITALES,KREFELD,Musik
END:VEVENT
BEGIN:VEVENT
UID:4388@kiktik.de
SUMMARY:Tobias Mann & Philip Simon
DTSTAMP:20260421T175030Z
DTSTART:20260605T170000Z
URL:https://kiktik.de/event/tobias-mann-and-philip-simon
LOCATION:Kulturfabrik Krefeld - Dießemer Str. 13\, 47799 Krefeld
STATUS:CONFIRMED
CATEGORIES:DIGITALES,Humor,KREFELD
END:VEVENT
BEGIN:VEVENT
UID:4421@kiktik.de
SUMMARY:Digital Café der DigiLotsen Krefeld beim DRK-Kreisverband Krefeld e
	.V.
DTSTAMP:20260421T175030Z
DTSTART:20260615T130000Z
DTEND:20260615T143000Z
URL:https://kiktik.de/event/digital-cafe-der-digilotsen-krefeld-beim-drk-kr
	eisverband-krefeld-ev-6
LOCATION:DRK-Kreisverband Krefeld e.V. - Uerdinger Straße 609\, 47800 Krefe
	ld
STATUS:CONFIRMED
CATEGORIES:DIGITALES,KREFELD,Musik
END:VEVENT
BEGIN:VEVENT
UID:4431@kiktik.de
SUMMARY:Digital Café der DigiLotsen Krefeld in der VHS
DTSTAMP:20260421T175030Z
DTSTART:20260618T130000Z
DTEND:20260618T150000Z
URL:https://kiktik.de/event/digital-cafe-der-digilotsen-krefeld-in-der-vhs-
	5
LOCATION:Volkshochschule Krefeld - Von-der-Leyen-Platz 2\, 47798 Krefeld
STATUS:CONFIRMED
CATEGORIES:DIGITALES,KREFELD
END:VEVENT
BEGIN:VEVENT
UID:4437@kiktik.de
SUMMARY:Heimatreisen. Workshop für Schreibfreudige im Stadtbezirk Nord
DTSTAMP:20260421T175030Z
DTSTART:20260619T160000Z
DTEND:20260619T190000Z
URL:https://kiktik.de/event/heimatreisen-workshop-fur-schreibfreudige-im-st
	adtbezirk-nord
LOCATION:Hubert-Houben-Kampfbahn\, Altes Pförtnerhaus - Appellweg 3\, 47803
	 Krefeld
STATUS:CONFIRMED
CATEGORIES:DIGITALES,KREFELD,Literatur
END:VEVENT
BEGIN:VEVENT
UID:4439@kiktik.de
SUMMARY:Kawai Konzert Akito Tani
DTSTAMP:20260421T175030Z
DTSTART:20260619T170000Z
DTEND:20260619T190000Z
URL:https://kiktik.de/event/kawai-konzert-akito-tani
LOCATION:Musikschule Krefeld - Uerdinger Straße 500\, 47800 Krefeld
STATUS:CONFIRMED
CATEGORIES:DIGITALES,KREFELD,Musik
END:VEVENT
BEGIN:VEVENT
UID:4441@kiktik.de
SUMMARY:Boys From The County Hell
DTSTAMP:20260421T175030Z
DTSTART:20260619T180000Z
DTEND:20260619T180000Z
URL:https://kiktik.de/event/boys-from-the-county-hell
LOCATION:Kulturrampe Krefeld - siehe Quelle
STATUS:CONFIRMED
CATEGORIES:DIGITALES,KREFELD,Musik
END:VEVENT
BEGIN:VEVENT
UID:4454@kiktik.de
SUMMARY:Digital Café mit den DigiLotsen Krefeld im Nachbarschaftstreff Dä N
	obber
DTSTAMP:20260421T175030Z
DTSTART:20260622T130000Z
DTEND:20260622T150000Z
URL:https://kiktik.de/event/digital-cafe-mit-den-digilotsen-krefeld-im-nach
	barschaftstreff-da-nobber-1
LOCATION:Quartierstreffpunkt Dä Nobber - Glockenspitz 213\, 47809 Krefeld
STATUS:CONFIRMED
CATEGORIES:DIGITALES,KREFELD
END:VEVENT
BEGIN:VEVENT
UID:4500@kiktik.de
SUMMARY:Digital Café der DigiLotsen Krefeld beim DRK-Kreisverband Krefeld e
	.V.
DTSTAMP:20260421T175030Z
DTSTART:20260713T130000Z
DTEND:20260713T143000Z
URL:https://kiktik.de/event/digital-cafe-der-digilotsen-krefeld-beim-drk-kr
	eisverband-krefeld-ev-7
LOCATION:DRK-Kreisverband Krefeld e.V. - Uerdinger Straße 609\, 47800 Krefe
	ld
STATUS:CONFIRMED
CATEGORIES:DIGITALES,KREFELD,Musik
END:VEVENT
BEGIN:VEVENT
UID:4511@kiktik.de
SUMMARY:Digital Café mit den DigiLotsen Krefeld im Nachbarschaftstreff Dä N
	obber
DTSTAMP:20260421T175030Z
DTSTART:20260727T130000Z
DTEND:20260727T150000Z
URL:https://kiktik.de/event/digital-cafe-mit-den-digilotsen-krefeld-im-nach
	barschaftstreff-da-nobber-2
LOCATION:Quartierstreffpunkt Dä Nobber - Glockenspitz 213\, 47809 Krefeld
STATUS:CONFIRMED
CATEGORIES:DIGITALES,KREFELD
END:VEVENT
BEGIN:VEVENT
UID:4517@kiktik.de
SUMMARY:Digital Café der DigiLotsen Krefeld beim DRK-Kreisverband Krefeld e
	.V.
DTSTAMP:20260421T175030Z
DTSTART:20260810T130000Z
DTEND:20260810T143000Z
URL:https://kiktik.de/event/digital-cafe-der-digilotsen-krefeld-beim-drk-kr
	eisverband-krefeld-ev-8
LOCATION:DRK-Kreisverband Krefeld e.V. - Uerdinger Straße 609\, 47800 Krefe
	ld
STATUS:CONFIRMED
CATEGORIES:DIGITALES,KREFELD,Musik
END:VEVENT
BEGIN:VEVENT
UID:4518@kiktik.de
SUMMARY:Open Air Weinprobe RhineSide mit Fabrizio Francone
DTSTAMP:20260421T175030Z
DTSTART:20260815T160000Z
DTEND:20260815T200000Z
URL:https://kiktik.de/event/open-air-weinprobe-rhineside-mit-fabrizio-franc
	one-1
LOCATION:Löschenhofweg 70 - Löschenhofweg 70\, 47829 Krefeld
STATUS:CONFIRMED
CATEGORIES:DIGITALES,KREFELD
END:VEVENT
BEGIN:VEVENT
UID:4519@kiktik.de
SUMMARY:Open Air Weinprobe im schönsten Beachclub Krefelds.
DTSTAMP:20260421T175030Z
DTSTART:20260815T160000Z
DTEND:20260815T200000Z
URL:https://kiktik.de/event/open-air-weinprobe-im-schonsten-beachclub-krefe
	lds
LOCATION:Löschenhofweg 70 - Löschenhofweg 70\, 47829 Krefeld
STATUS:CONFIRMED
CATEGORIES:DIGITALES,KREFELD
END:VEVENT
BEGIN:VEVENT
UID:4521@kiktik.de
SUMMARY:Digital Café mit den DigiLotsen Krefeld im Nachbarschaftstreff Dä N
	obber
DTSTAMP:20260421T175030Z
DTSTART:20260824T130000Z
DTEND:20260824T150000Z
URL:https://kiktik.de/event/digital-cafe-mit-den-digilotsen-krefeld-im-nach
	barschaftstreff-da-nobber-3
LOCATION:Quartierstreffpunkt Dä Nobber - Glockenspitz 213\, 47809 Krefeld
STATUS:CONFIRMED
CATEGORIES:DIGITALES,KREFELD
END:VEVENT
BEGIN:VEVENT
UID:4522@kiktik.de
SUMMARY:Kawai Konzert Zixi Chen
DTSTAMP:20260421T175030Z
DTSTART:20260828T170000Z
DTEND:20260828T190000Z
URL:https://kiktik.de/event/kawai-konzert-zixi-chen
LOCATION:Musikschule Krefeld - Uerdinger Straße 500\, 47800 Krefeld
STATUS:CONFIRMED
CATEGORIES:DIGITALES,KREFELD,Musik
END:VEVENT
BEGIN:VEVENT
UID:4537@kiktik.de
SUMMARY:Digital Café der DigiLotsen Krefeld beim DRK-Kreisverband Krefeld e
	.V.
DTSTAMP:20260421T175030Z
DTSTART:20260914T130000Z
DTEND:20260914T143000Z
URL:https://kiktik.de/event/digital-cafe-der-digilotsen-krefeld-beim-drk-kr
	eisverband-krefeld-ev-9
LOCATION:DRK-Kreisverband Krefeld e.V. - Uerdinger Straße 609\, 47800 Krefe
	ld
STATUS:CONFIRMED
CATEGORIES:DIGITALES,KREFELD,Musik
END:VEVENT
BEGIN:VEVENT
UID:4553@kiktik.de
SUMMARY:Digital Café mit den DigiLotsen Krefeld im Nachbarschaftstreff Dä N
	obber
DTSTAMP:20260421T175030Z
DTSTART:20260928T130000Z
DTEND:20260928T150000Z
URL:https://kiktik.de/event/digital-cafe-mit-den-digilotsen-krefeld-im-nach
	barschaftstreff-da-nobber-4
LOCATION:Quartierstreffpunkt Dä Nobber - Glockenspitz 213\, 47809 Krefeld
STATUS:CONFIRMED
CATEGORIES:DIGITALES,KREFELD
END:VEVENT
BEGIN:VEVENT
UID:4570@kiktik.de
SUMMARY:Digital Café der DigiLotsen Krefeld beim DRK-Kreisverband Krefeld e
	.V.
DTSTAMP:20260421T175030Z
DTSTART:20261012T130000Z
DTEND:20261012T143000Z
URL:https://kiktik.de/event/digital-cafe-der-digilotsen-krefeld-beim-drk-kr
	eisverband-krefeld-ev-10
LOCATION:DRK-Kreisverband Krefeld e.V. - Uerdinger Straße 609\, 47800 Krefe
	ld
STATUS:CONFIRMED
CATEGORIES:DIGITALES,KREFELD,Musik
END:VEVENT
BEGIN:VEVENT
UID:4576@kiktik.de
SUMMARY:Kawai Konzert Guillermo Hernández Barrocal
DTSTAMP:20260421T175030Z
DTSTART:20261016T170000Z
DTEND:20261016T190000Z
URL:https://kiktik.de/event/kawai-konzert-guillermo-hernandez-barrocal
LOCATION:Musikschule Krefeld - Uerdinger Straße 500\, 47800 Krefeld
STATUS:CONFIRMED
CATEGORIES:DIGITALES,KREFELD,Musik
END:VEVENT
BEGIN:VEVENT
UID:4577@kiktik.de
SUMMARY:Cinema Stereo
DTSTAMP:20260421T175030Z
DTSTART:20261016T180000Z
DTEND:20261016T180000Z
URL:https://kiktik.de/event/cinema-stereo
LOCATION:Kulturrampe Krefeld - siehe Quelle
STATUS:CONFIRMED
CATEGORIES:DIGITALES,KREFELD,Musik
END:VEVENT
BEGIN:VEVENT
UID:4588@kiktik.de
SUMMARY:Digital Café mit den DigiLotsen Krefeld im Nachbarschaftstreff Dä N
	obber
DTSTAMP:20260421T175030Z
DTSTART:20261026T140000Z
DTEND:20261026T160000Z
URL:https://kiktik.de/event/digital-cafe-mit-den-digilotsen-krefeld-im-nach
	barschaftstreff-da-nobber-5
LOCATION:Quartierstreffpunkt Dä Nobber - Glockenspitz 213\, 47809 Krefeld
STATUS:CONFIRMED
CATEGORIES:DIGITALES,KREFELD
END:VEVENT
BEGIN:VEVENT
UID:4597@kiktik.de
SUMMARY:Erdling
DTSTAMP:20260421T175030Z
DTSTART:20261107T170000Z
URL:https://kiktik.de/event/erdling
LOCATION:Kulturfabrik Krefeld - Dießemer Str. 13\, 47799 Krefeld
STATUS:CONFIRMED
CATEGORIES:DIGITALES,KREFELD,Musik
END:VEVENT
BEGIN:VEVENT
UID:4598@kiktik.de
SUMMARY:Mathias Richling
DTSTAMP:20260421T175030Z
DTSTART:20261108T180000Z
URL:https://kiktik.de/event/mathias-richling
LOCATION:Kulturfabrik Krefeld - Dießemer Str. 13\, 47799 Krefeld
STATUS:CONFIRMED
CATEGORIES:DIGITALES,Humor,KREFELD
END:VEVENT
BEGIN:VEVENT
UID:4599@kiktik.de
SUMMARY:Digital Café der DigiLotsen Krefeld beim DRK-Kreisverband Krefeld e
	.V.
DTSTAMP:20260421T175030Z
DTSTART:20261109T140000Z
DTEND:20261109T153000Z
URL:https://kiktik.de/event/digital-cafe-der-digilotsen-krefeld-beim-drk-kr
	eisverband-krefeld-ev-11
LOCATION:DRK-Kreisverband Krefeld e.V. - Uerdinger Straße 609\, 47800 Krefe
	ld
STATUS:CONFIRMED
CATEGORIES:DIGITALES,KREFELD,Musik
END:VEVENT
BEGIN:VEVENT
UID:4612@kiktik.de
SUMMARY:Katrin Iskam - Gärtnern ohne viel Geschiss
DTSTAMP:20260421T175030Z
DTSTART:20261121T190000Z
URL:https://kiktik.de/event/katrin-iskam-gartnern-ohne-viel-geschiss
LOCATION:Seidenweberhaus Krefeld - Theaterplatz 1\, 47798 Krefeld
STATUS:CONFIRMED
CATEGORIES:DIGITALES,KREFELD
END:VEVENT
BEGIN:VEVENT
UID:4614@kiktik.de
SUMMARY:Digital Café mit den DigiLotsen Krefeld im Nachbarschaftstreff Dä N
	obber
DTSTAMP:20260421T175030Z
DTSTART:20261123T140000Z
DTEND:20261123T160000Z
URL:https://kiktik.de/event/digital-cafe-mit-den-digilotsen-krefeld-im-nach
	barschaftstreff-da-nobber-6
LOCATION:Quartierstreffpunkt Dä Nobber - Glockenspitz 213\, 47809 Krefeld
STATUS:CONFIRMED
CATEGORIES:DIGITALES,KREFELD
END:VEVENT
BEGIN:VEVENT
UID:4618@kiktik.de
SUMMARY:Kawai Konzert Maximilian Kromer
DTSTAMP:20260421T175030Z
DTSTART:20261127T180000Z
DTEND:20261127T200000Z
URL:https://kiktik.de/event/kawai-konzert-maximilian-kromer
LOCATION:Musikschule Krefeld - Uerdinger Straße 500\, 47800 Krefeld
STATUS:CONFIRMED
CATEGORIES:DIGITALES,KREFELD,Musik
END:VEVENT
BEGIN:VEVENT
UID:4634@kiktik.de
SUMMARY:Digital Café der DigiLotsen Krefeld beim DRK-Kreisverband Krefeld e
	.V.
DTSTAMP:20260421T175030Z
DTSTART:20261214T140000Z
DTEND:20261214T153000Z
URL:https://kiktik.de/event/digital-cafe-der-digilotsen-krefeld-beim-drk-kr
	eisverband-krefeld-ev-12
LOCATION:DRK-Kreisverband Krefeld e.V. - Uerdinger Straße 609\, 47800 Krefe
	ld
STATUS:CONFIRMED
CATEGORIES:DIGITALES,KREFELD,Musik
END:VEVENT
END:VCALENDAR
