BEGIN:VCALENDAR
VERSION:2.0
CALSCALE:GREGORIAN
PRODID:adamgibbons/ics
METHOD:PUBLISH
X-PUBLISHED-TTL:PT1H
BEGIN:VEVENT
UID:4172@kiktik.de
SUMMARY:Artonautix - Ausstellung bei “Schrei Auf!” in Mönchengladbach
DTSTAMP:20260425T114855Z
DTSTART:20260425T150000Z
DTEND:20260425T200000Z
URL:https://kiktik.de/event/artonautix-ausstellung-bei-schrei-auf-in-monche
	ngladbach
LOCATION:Kunst- und Kulturzentrum 2N60 - Waldhausener Str. 62\, 41061 Mönch
	engladbach
STATUS:CONFIRMED
CATEGORIES:Ausstellung,KREFELD
END:VEVENT
END:VCALENDAR
