BEGIN:VCALENDAR
VERSION:2.0
CALSCALE:GREGORIAN
PRODID:adamgibbons/ics
METHOD:PUBLISH
X-PUBLISHED-TTL:PT1H
BEGIN:VEVENT
UID:4393@kiktik.de
SUMMARY:Bockum... verwöhnt!
DTSTAMP:20260422T075655Z
DTSTART:20260604T120000Z
DTEND:20260606T100000Z
URL:https://kiktik.de/event/bockum-verwohnt
LOCATION:Am Badezentrum 5 - Am Badezentrum 5\, 47800 Krefeld
STATUS:CONFIRMED
CATEGORIES:KREFELD,Musik,Party
END:VEVENT
END:VCALENDAR
