BEGIN:VCALENDAR
VERSION:2.0
CALSCALE:GREGORIAN
PRODID:adamgibbons/ics
METHOD:PUBLISH
X-PUBLISHED-TTL:PT1H
BEGIN:VEVENT
UID:4360@kiktik.de
SUMMARY:Eröffnung *Musik & Lesung im Krefeld Pavillon*
DTSTAMP:20260422T080558Z
DTSTART:20260529T170000Z
DTEND:20260529T200000Z
URL:https://kiktik.de/event/eroffnung-musik-and-lesung-im-krefeld-pavillon
LOCATION:Krefeld Pavillon - Wilhelmshofallee Ecke Kaiserstraße\, 47800 Kref
	eld
STATUS:CONFIRMED
CATEGORIES:KREFELD,Musik,TANZ
END:VEVENT
BEGIN:VEVENT
UID:4408@kiktik.de
SUMMARY:„MARA“
DTSTAMP:20260422T080558Z
DTSTART:20260607T170000Z
DTEND:20260607T190000Z
URL:https://kiktik.de/event/mara
LOCATION:Krefeld Pavillon - Wilhelmshofallee Ecke Kaiserstraße\, 47800 Kref
	eld
STATUS:CONFIRMED
CATEGORIES:KREFELD
END:VEVENT
BEGIN:VEVENT
UID:4411@kiktik.de
SUMMARY:*Musik & Lesung im Krefeld Pavillon* - INFERNO
DTSTAMP:20260422T080558Z
DTSTART:20260609T170000Z
DTEND:20260609T190000Z
URL:https://kiktik.de/event/musik-and-lesung-im-krefeld-pavillon-inferno
LOCATION:Krefeld Pavillon - Wilhelmshofallee Ecke Kaiserstraße\, 47800 Kref
	eld
STATUS:CONFIRMED
CATEGORIES:KREFELD,Musik,TANZ
END:VEVENT
BEGIN:VEVENT
UID:4414@kiktik.de
SUMMARY:*Musik & Lesung im Krefeld Pavillon*  - Bach Total
DTSTAMP:20260422T080558Z
DTSTART:20260611T170000Z
DTEND:20260611T190000Z
URL:https://kiktik.de/event/musik-and-lesung-im-krefeld-pavillon-bach-total
LOCATION:Krefeld Pavillon - Wilhelmshofallee Ecke Kaiserstraße\, 47800 Kref
	eld
STATUS:CONFIRMED
CATEGORIES:KREFELD,Literatur,Musik
END:VEVENT
BEGIN:VEVENT
UID:4431@kiktik.de
SUMMARY:*Musik & Lesung im Krefeld Pavillon* - GLASS for TWO
DTSTAMP:20260422T080558Z
DTSTART:20260614T130000Z
DTEND:20260614T150000Z
URL:https://kiktik.de/event/musik-and-lesung-im-krefeld-pavillon-glass-for-
	two
LOCATION:Krefeld Pavillon - Wilhelmshofallee Ecke Kaiserstraße\, 47800 Kref
	eld
STATUS:CONFIRMED
CATEGORIES:KREFELD,Literatur,Musik
END:VEVENT
END:VCALENDAR
