BEGIN:VCALENDAR
VERSION:2.0
CALSCALE:GREGORIAN
PRODID:adamgibbons/ics
METHOD:PUBLISH
X-PUBLISHED-TTL:PT1H
BEGIN:VEVENT
UID:4171@kiktik.de
SUMMARY:HSG Krefeld Niederrhein - VfL Lübeck-Schwartau
DTSTAMP:20260422T075655Z
DTSTART:20260425T160000Z
DTEND:20260425T160800Z
URL:https://kiktik.de/event/hsg-krefeld-niederrhein-vfl-lubeck-schwartau
LOCATION:Glockenspitz 350 - Glockenspitz 350\, 47809 Krefeld
STATUS:CONFIRMED
CATEGORIES:KREFELD
END:VEVENT
END:VCALENDAR
