BEGIN:VCALENDAR
VERSION:2.0
CALSCALE:GREGORIAN
PRODID:adamgibbons/ics
METHOD:PUBLISH
X-PUBLISHED-TTL:PT1H
BEGIN:VEVENT
UID:4429@kiktik.de
SUMMARY:Romane aus dem hohen Norden
DTSTAMP:20260421T082023Z
DTSTART:20260617T180000Z
DTEND:20260617T194500Z
URL:https://kiktik.de/event/romane-aus-dem-hohen-norden
LOCATION:Ristorante Don Marcello - Lilienthalweg 12\, 47802 Krefeld
STATUS:CONFIRMED
CATEGORIES:KREFELD,Literatur,Musik
END:VEVENT
END:VCALENDAR
