BEGIN:VCALENDAR
VERSION:2.0
CALSCALE:GREGORIAN
PRODID:adamgibbons/ics
METHOD:PUBLISH
X-PUBLISHED-TTL:PT1H
BEGIN:VEVENT
UID:4436@kiktik.de
SUMMARY:Heimatreisen. Workshop für Schreibfreudige im Stadtbezirk Nord
DTSTAMP:20260420T085525Z
DTSTART:20260619T160000Z
DTEND:20260619T190000Z
URL:https://kiktik.de/event/heimatreisen-workshop-fur-schreibfreudige-im-st
	adtbezirk-nord
LOCATION:Hubert-Houben-Kampfbahn\, Altes Pförtnerhaus - Appellweg 3\, 47803
	 Krefeld
STATUS:CONFIRMED
CATEGORIES:DIGITALES,KREFELD,Literatur
END:VEVENT
END:VCALENDAR
