BEGIN:VCALENDAR
VERSION:2.0
CALSCALE:GREGORIAN
PRODID:adamgibbons/ics
METHOD:PUBLISH
X-PUBLISHED-TTL:PT1H
BEGIN:VEVENT
UID:4516@kiktik.de
SUMMARY:Zum Bauernhof-Café Baerlaghof
DTSTAMP:20260421T044520Z
DTSTART:20260809T080000Z
DTEND:20260809T150000Z
URL:https://kiktik.de/event/zum-bauernhof-cafe-baerlaghof
LOCATION:Vor der VHS\, Von-der-Leyen-Platz 2 47798 Krefeld - Krefeld
STATUS:CONFIRMED
CATEGORIES:FAHRRAD,KREFELD
END:VEVENT
END:VCALENDAR
