BEGIN:VCALENDAR
VERSION:2.0
CALSCALE:GREGORIAN
PRODID:adamgibbons/ics
METHOD:PUBLISH
X-PUBLISHED-TTL:PT1H
BEGIN:VEVENT
UID:4512@kiktik.de
SUMMARY:Nach Neuss und Düsseldorf
DTSTAMP:20260421T064842Z
DTSTART:20260802T080000Z
DTEND:20260802T150000Z
URL:https://kiktik.de/event/nach-neuss-und-dusseldorf
LOCATION:Parkplatz am Bistro U76\, Hees 84\, KR-Fischeln 47807 Krefeld - Kr
	efeld
STATUS:CONFIRMED
CATEGORIES:FAHRRAD,KREFELD
END:VEVENT
END:VCALENDAR
