BEGIN:VCALENDAR
VERSION:2.0
CALSCALE:GREGORIAN
PRODID:adamgibbons/ics
METHOD:PUBLISH
X-PUBLISHED-TTL:PT1H
BEGIN:VEVENT
UID:4510@kiktik.de
SUMMARY:Zum Walsumer Brauhaus
DTSTAMP:20260421T064842Z
DTSTART:20260726T080000Z
DTEND:20260726T143000Z
URL:https://kiktik.de/event/zum-walsumer-brauhaus
LOCATION:Volkshochschule\, von-der-Leyen-Platz 47798 Krefeld - Krefeld
STATUS:CONFIRMED
CATEGORIES:FAHRRAD,KREFELD
END:VEVENT
END:VCALENDAR
