BEGIN:VCALENDAR
VERSION:2.0
CALSCALE:GREGORIAN
PRODID:adamgibbons/ics
METHOD:PUBLISH
X-PUBLISHED-TTL:PT1H
BEGIN:VEVENT
UID:4466@kiktik.de
SUMMARY:Mit dem Rad zum Kölner Dom
DTSTAMP:20260421T065418Z
DTSTART:20260628T070000Z
DTEND:20260628T170000Z
URL:https://kiktik.de/event/mit-dem-rad-zum-kolner-dom
LOCATION:Krefeld Fischeln\, Haltestelle U76 Grundend 47807 Krefeld - Krefel
	d
STATUS:CONFIRMED
CATEGORIES:FAHRRAD,KREFELD
END:VEVENT
END:VCALENDAR
