BEGIN:VCALENDAR
VERSION:2.0
CALSCALE:GREGORIAN
PRODID:adamgibbons/ics
METHOD:PUBLISH
X-PUBLISHED-TTL:PT1H
BEGIN:VEVENT
UID:4269@kiktik.de
SUMMARY:Krefelder Jazz-Quartett im Landschaftspark
DTSTAMP:20260419T132745Z
DTSTART:20260510T120000Z
DTEND:20260510T140000Z
URL:https://kiktik.de/event/krefelder-jazz-quartett-im-landschaftspark
LOCATION:Landschaftspark Heilmannshof - Maria-Sohmann-Str. 93\, 47802 Krefe
	ld-Traar
STATUS:CONFIRMED
CATEGORIES:KREFELD,Musik
END:VEVENT
END:VCALENDAR
