BEGIN:VCALENDAR
VERSION:2.0
CALSCALE:GREGORIAN
PRODID:adamgibbons/ics
METHOD:PUBLISH
X-PUBLISHED-TTL:PT1H
BEGIN:VEVENT
UID:4525@kiktik.de
SUMMARY:Zeke
DTSTAMP:20260424T063417Z
DTSTART:20260711T180000Z
DTEND:20260711T180000Z
DESCRIPTION:Einlass: 19:00 Uhr\n\nZeke ist eine amerikanische Hardcore-Punk
	-Band\, die seit 1992 für ihre\nunerbittlichen Live-Auftritte bekannt ist.
	 Sie zeichnen sich durch ihren extrem\nschnellen\, energiegeladenen Gitarr
	ensound aus.\n„Ride With Zeke“ ist schnell zum Mantra all jener geworden\,
	 die die Einladung\ndes Heckler Magazine angenommen haben\, als es hieß: „
	Heißt die neuen Monster des\nRock willkommen.“ Und sie sind Monster. Seit 
	ihrem allerersten Auftritt im Rock\nCity in Seattle im Jahr 1992 hatten di
	e Leute keine andere Wahl\, als ihnen\nAufmerksamkeit zu schenken. Ihre Pl
	atten werden euch überrollen\, und ihre\nLive-Shows werden euch umhauen.\n
	Zeke werden aufgrund ihrer aggressiven Fusion aus Punkrock\, Hardcore und 
	Rock\n’n’ Roll\, gespielt in rasender Geschwindigkeit\, oft als die Urväte
	r des\nSpeedrock angesehen. Zeke setzten einen neuen Standard für schnelle
	\,\nschnörkellose Rockmusik. Ihr Sound zeichnet sich durch unerbittliche\,
	 treibende\nGitarrenriffs\, wildes Schlagzeugspiel und knurrenden Gesang a
	us – allesamt\nMarkenzeichen des Speedrock.\nAlben wie „Flat Tracker“ und 
	„Death Alley“ sind Beispiele für ihr\nhalsbrecherisches Tempo\, wobei die 
	Songs oft weniger als zwei Minuten lang sind.\nIhre Einflüsse reichen von 
	Motörhead und den Ramones bis hin zu\nHardcore-Punk-Bands wie Black Flag\,
	 doch Zeke nahmen diese Grundlage und drehten\ndie Intensität auf 11.\nIhr
	 Ruf wurde durch ihre wilden Live-Shows weiter gefestigt\, bei denen sie m
	it\nchaotischer Energie und fast schon gefährlicher Präzision spielten.\nZ
	eke absolvierte Ende 2024 eine große Europatournee und spielte in legendär
	en\nVeranstaltungsorten und auf Festivals in Deutschland\, Italien\, Spani
	en und\nGroßbritannien. Die Band bleibt kompromisslos und liefert Musik\, 
	die Kritiker.\n \n\n \n\n\nWeitere Informationen:\nhttps://cms.kulturrampe
	.de/event/zeke/ [https://cms.kulturrampe.de/event/zeke/]\n
URL:https://kiktik.de/event/zeke
LOCATION:Kulturrampe Krefeld - siehe Quelle
STATUS:CONFIRMED
CATEGORIES:KREFELD,Musik
X-ALT-DESC;FMTTYPE=text/html:Einlass: 19:00 Uhr<br><br>Zeke ist eine amerik
	anische Hardcore-Punk-Band, die seit 1992 für ihre unerbittlichen Live-Auf
	tritte bekannt ist. Sie zeichnen sich durch ihren extrem schnellen, energi
	egeladenen Gitarrensound aus.<br>„Ride With Zeke“ ist schnell zum Mantra a
	ll jener geworden, die die Einladung des Heckler Magazine angenommen haben
	, als es hieß: „Heißt die neuen Monster des Rock willkommen.“ Und sie sind
	 Monster. Seit ihrem allerersten Auftritt im Rock City in Seattle im Jahr 
	1992 hatten die Leute keine andere Wahl, als ihnen Aufmerksamkeit zu schen
	ken. Ihre Platten werden euch überrollen, und ihre Live-Shows werden euch 
	umhauen.<br>Zeke werden aufgrund ihrer aggressiven Fusion aus Punkrock, Ha
	rdcore und Rock ’n’ Roll, gespielt in rasender Geschwindigkeit, oft als di
	e Urväter des Speedrock angesehen. Zeke setzten einen neuen Standard für s
	chnelle, schnörkellose Rockmusik. Ihr Sound zeichnet sich durch unerbittli
	che, treibende Gitarrenriffs, wildes Schlagzeugspiel und knurrenden Gesang
	 aus – allesamt Markenzeichen des Speedrock.<br>Alben wie „Flat Tracker“ u
	nd „Death Alley“ sind Beispiele für ihr halsbrecherisches Tempo, wobei die
	 Songs oft weniger als zwei Minuten lang sind. Ihre Einflüsse reichen von 
	Motörhead und den Ramones bis hin zu Hardcore-Punk-Bands wie Black Flag, d
	och Zeke nahmen diese Grundlage und drehten die Intensität auf 11.<br>Ihr 
	Ruf wurde durch ihre wilden Live-Shows weiter gefestigt, bei denen sie mit
	 chaotischer Energie und fast schon gefährlicher Präzision spielten.<br>Ze
	ke absolvierte Ende 2024 eine große Europatournee und spielte in legendäre
	n Veranstaltungsorten und auf Festivals in Deutschland, Italien, Spanien u
	nd Großbritannien. Die Band bleibt kompromisslos und liefert Musik, die Kr
	itiker.<br>&nbsp;<br><br>&nbsp;<br><br><br>Weitere Informationen:<br><a hr
	ef="https://cms.kulturrampe.de/event/zeke/">https://cms.kulturrampe.de/eve
	nt/zeke/</a><br>
BEGIN:VALARM
ACTION:DISPLAY
DESCRIPTION:Zeke
TRIGGER:-PT1H
END:VALARM
END:VEVENT
END:VCALENDAR
