BEGIN:VCALENDAR
VERSION:2.0
CALSCALE:GREGORIAN
PRODID:adamgibbons/ics
METHOD:PUBLISH
X-PUBLISHED-TTL:PT1H
BEGIN:VEVENT
UID:4274@kiktik.de
SUMMARY:WESTWERKVinyl
DTSTAMP:20260423T080422Z
DTSTART:20260509T173000Z
DESCRIPTION:Was\, wenn ein DJ-Set den Roman weitererzählt\, aus dem Dir ger
	ade vorgelesen\nwurde? Genau das passiert bei WESTWERKVinyl – unserer neue
	n Veranstaltungsreihe\,\ndie Literatur und Musik gemeinsam auf eine Bühne 
	bringt.Denis Pfabe („Die\nMöglichkeit einer Ordnung“) und Son Lewandowski 
	(„Die Routinen“) haben Romane\ngeschrieben\, die dorthin schauen\, wo Lite
	ratur bisher kaum hingeschaut hat und\ndie einen so schnell nicht mehr los
	lassen:Watermeyer kennt seine\nBaumarktabteilung in- und auswendig – bis d
	as System zu implodieren beginnt. Und\nAmik kennt jeden Bewegungsablauf\, 
	jeden Wettkampf\, jedes Gramm – bis ihr Körper\nseine eigene Sprache spric
	ht. Hier ein Baumarkt als Mikrokosmos der Gegenwart\nund dort eine Turnhal
	le als Ort gnadenloser Zurichtung.WESTWERKVinyl kombiniert\ndie beiden Les
	ungen mit DJ-Sets – Musik\, die die Stimmungen der Texte aufnimmt\nund kom
	mentiert. Die wunderbare DJ Yurika bringt deep-treibenden Techno zu den\n„
	Routinen“ und Reinhold Janowitz entwickelt seine ganz eigene Mixtur aus\ns
	äuselnder Baumarkt-Muzak und indie-geprägtem Widerstandskrachen.In\n[http:
	//Widerstandskrachen.In] Zahlen: 2 x 40 Minuten Lesung und jeweils 20\nMin
	uten DJ-Set\, danach legen Yurika und Reinhold noch mal in freien Sets auf
	\,\nwenn Ihr an der Theke mit den Autor:innen sprecht oder einfach endlich
	 tanzen\nwollt.Achtung: Vorabreservierung dringend empfohlen: nlh-krefeld.
	de\n[http://nlh-krefeld.de]\nEintritt: 10 Euro\, 5 Euro ermäßigt für Schül
	er:innen\, Studierende\nundEmpfänger:innen von Sozialleistungen\n\nWeitere
	 Informationen:\nhttps://schlachthof-krefeld.de/e/westwerkvinyl/\n[https:/
	/schlachthof-krefeld.de/e/westwerkvinyl/]\n
URL:https://kiktik.de/event/westwerkvinyl
LOCATION:Schlachthof - 47799 Krefeld
STATUS:CONFIRMED
CATEGORIES:KREFELD,Musik,TANZ
X-ALT-DESC;FMTTYPE=text/html:Was, wenn ein DJ-Set den Roman weitererzählt, 
	aus dem Dir gerade vorgelesen wurde? Genau das passiert bei WESTWERKVinyl 
	– unserer neuen Veranstaltungsreihe, die Literatur und Musik gemeinsam auf
	 eine Bühne bringt.Denis Pfabe („Die Möglichkeit einer Ordnung“) und Son L
	ewandowski („Die Routinen“) haben Romane geschrieben, die dorthin schauen,
	 wo Literatur bisher kaum hingeschaut hat und die einen so schnell nicht m
	ehr loslassen:Watermeyer kennt seine Baumarktabteilung in- und auswendig –
	 bis das System zu implodieren beginnt. Und Amik kennt jeden Bewegungsabla
	uf, jeden Wettkampf, jedes Gramm – bis ihr Körper seine eigene Sprache spr
	icht. Hier ein Baumarkt als Mikrokosmos der Gegenwart und dort eine Turnha
	lle als Ort gnadenloser Zurichtung.WESTWERKVinyl kombiniert die beiden Les
	ungen mit DJ-Sets – Musik, die die Stimmungen der Texte aufnimmt und komme
	ntiert. Die wunderbare DJ Yurika bringt deep-treibenden Techno zu den „Rou
	tinen“ und Reinhold Janowitz entwickelt seine ganz eigene Mixtur aus säuse
	lnder Baumarkt-Muzak und indie-geprägtem <a href="http://Widerstandskrache
	n.In" target="_blank">Widerstandskrachen.In</a> Zahlen: 2 x 40 Minuten Les
	ung und jeweils 20 Minuten DJ-Set, danach legen Yurika und Reinhold noch m
	al in freien Sets auf, wenn Ihr an der Theke mit den Autor:innen sprecht o
	der einfach endlich tanzen wollt.Achtung: Vorabreservierung dringend empfo
	hlen: <a href="http://nlh-krefeld.de" target="_blank">nlh-krefeld.de</a><b
	r>Eintritt: 10 Euro, 5 Euro ermäßigt für Schüler:innen, Studierende undEmp
	fänger:innen von Sozialleistungen<br><br>Weitere Informationen:<br><a href
	="https://schlachthof-krefeld.de/e/westwerkvinyl/">https://schlachthof-kre
	feld.de/e/westwerkvinyl/</a><br>
BEGIN:VALARM
ACTION:DISPLAY
DESCRIPTION:WESTWERKVinyl
TRIGGER:-PT1H
END:VALARM
END:VEVENT
END:VCALENDAR
