BEGIN:VCALENDAR
VERSION:2.0
CALSCALE:GREGORIAN
PRODID:adamgibbons/ics
METHOD:PUBLISH
X-PUBLISHED-TTL:PT1H
BEGIN:VEVENT
UID:4607@kiktik.de
SUMMARY:Udo Butter & Das Team
DTSTAMP:20260424T064159Z
DTSTART:20261017T180000Z
DTEND:20261017T180000Z
DESCRIPTION:Einlass: 19:00 Uhr\n\nUdo B. versammelte 2021 im gentrifizierte
	n Berlin das Team\, um auf seine alten\nTage mit der Bequemlichkeit kapita
	listischer Verwertungslogik aufzuräumen. Udo\norientierte sich zunächst an
	 der instrumentalen Besetzung der Band Sublime\, ließ\nsich jedoch von Nin
	a Hagen inspirieren und etablierte daher das Keyboard und\nGebläse als fes
	ten Team-Bestandteil.\nWährend das Team (von Udo Butter & das Team) seine 
	Instrumente von Bühne zu\nBühne schleppt zieht sich Udo zunehmend in die R
	olle des kosmischen Leuchtturms\nzurück. Fairerweise wäre es ohne ihn aber
	 auch ziemlich düster im Udoversum.\nUnterdessen gibt das Team zu verstehe
	n: Wütend\, woke und mit Mittelfinger wächst\ndie fünfte Welle Ska.\nAlso 
	was brauchst du? Stumpfe oder stabile Texte? Raue oder zarte Instrumentals
	?\nKlamauk oder Emotion?\ndas Team hat es dabei. Wetten?! Und wenn nicht\,
	 dann bring halt mit.\n \n\n \n\n\nWeitere Informationen:\nhttps://cms.kul
	turrampe.de/event/udo-butter-das-team/\n[https://cms.kulturrampe.de/event/
	udo-butter-das-team/]\n
URL:https://kiktik.de/event/udo-butter-and-das-team
LOCATION:Kulturrampe Krefeld - siehe Quelle
STATUS:CONFIRMED
CATEGORIES:KREFELD,Musik
X-ALT-DESC;FMTTYPE=text/html:Einlass: 19:00 Uhr<br><br>Udo B. versammelte 2
	021 im gentrifizierten Berlin das Team, um auf seine alten Tage mit der Be
	quemlichkeit kapitalistischer Verwertungslogik aufzuräumen. Udo orientiert
	e sich zunächst an der instrumentalen Besetzung der Band Sublime, ließ sic
	h jedoch von Nina Hagen inspirieren und etablierte daher das Keyboard und 
	Gebläse als festen Team-Bestandteil.<br>Während das Team (von Udo Butter &
	amp; das Team) seine Instrumente von Bühne zu Bühne schleppt zieht sich Ud
	o zunehmend in die Rolle des kosmischen Leuchtturms zurück. Fairerweise wä
	re es ohne ihn aber auch ziemlich düster im Udoversum.<br>Unterdessen gibt
	 das Team zu verstehen: Wütend, woke und mit Mittelfinger wächst die fünft
	e Welle Ska.<br>Also was brauchst du? Stumpfe oder stabile Texte? Raue ode
	r zarte Instrumentals? Klamauk oder Emotion?<br>das Team hat es dabei. Wet
	ten?! Und wenn nicht, dann bring halt mit.<br>&nbsp;<br><br>&nbsp;<br><br>
	<br>Weitere Informationen:<br><a href="https://cms.kulturrampe.de/event/ud
	o-butter-das-team/">https://cms.kulturrampe.de/event/udo-butter-das-team/<
	/a><br>
BEGIN:VALARM
ACTION:DISPLAY
DESCRIPTION:Udo Butter & Das Team
TRIGGER:-PT1H
END:VALARM
END:VEVENT
END:VCALENDAR
