BEGIN:VCALENDAR
VERSION:2.0
CALSCALE:GREGORIAN
PRODID:adamgibbons/ics
METHOD:PUBLISH
X-PUBLISHED-TTL:PT1H
BEGIN:VEVENT
UID:4637@kiktik.de
SUMMARY:Tom Gaebel & his Orchestra - A Swinging Christmas 2026
DTSTAMP:20260420T090759Z
DTSTART:20261229T190000Z
DESCRIPTION:Tom Gaebel & his Orchestra „A Swinging Christmas“\n\nAlle Jahre
	 wieder…das gleiche Spiel: Geschenke unterm Tannenbaum\, die Gans im\nOfen
	 und Oma holt die Blockflöte raus. Jeder von uns kennt das\, Weihnachten a
	uf\ndie klassische Art. Höchste Zeit für ein wenig Abwechslung\, meinen Si
	e nicht\nauch?\nTom Gaebel\, Deutschlands angesagtester Big-Band-Entertain
	er der alten Schule\,\nbeweist\, dass es auch anders geht. Mit seiner groß
	en Weihnachtsshow „A Swinging\nChristmas“ sorgt der Sänger mit der Ausnahm
	estimme für glühende Wangen bei Jung\nund Junggebliebenen. Von „White Chri
	stmas“ über „Jingle Bells“ bis „Let It Snow”\n– Tom Gaebel und sein Orches
	ter spielen die schönsten amerikanischen\nWeihnachtsEvergreens und moderne
	 Klassiker wie „Driving Home For Christmas“ oder\n„ All I Want For Christm
	as Is You“ im heißen Easy-Listening-Sound. Ganz in der\nTradition von Show
	legenden wie Frank Sinatra\, Dean Martin und Co.\nEs muss nicht immer „O T
	annenbaum“ sein! Seit dem überragenden Erfolg der\n„Swinging Christmas Sho
	w“ im Jahre 2010 zählen die jährlichen\nWeihnachts-Specials zu Gaebel‘s pe
	rsönlichen Highlights in seinem\nKonzertkalender: „Für mich ist es immer e
	ine riesige Freude\, dem Publikum eine\nShow zu präsentieren\, die anders 
	ist als das übliche Kling Glöckchen-Einerlei.\nEher wie Weihnachten in Las
	 Vegas\, voller Glanz\, Glamour und guter Laune.“\nEntsprechend dicht gepa
	ckt liegen die musikalischen Geschenke und Überraschungen\nauf dem Schlitt
	en des Crooners. Genau das Richtige für alle\, die sich zur\nAbwechslung e
	inmal in die Weihnachtstage swingen wollen anstatt zu schunkeln.\nFreuen S
	ie sich auf eine mitreißende Christmas-Party\, bei der Winterfrust und\nVo
	rweihnachtsstress keine Chance haben.\nA Swinging Christmas: Tom Gaebel & 
	His Orchestra laden herzlich ein!\n\nWeitere Informationen:\nhttps://seide
	nweberhaus.de/event/tom-gaebel-his-orchestra/\n[https://seidenweberhaus.de
	/event/tom-gaebel-his-orchestra/]\n
URL:https://kiktik.de/event/tom-gaebel-and-his-orchestra-a-swinging-christm
	as-2026
LOCATION:Seidenweberhaus Krefeld - Theaterplatz 1\, 47798 Krefeld
STATUS:CONFIRMED
CATEGORIES:KREFELD,Musik,Party
X-ALT-DESC;FMTTYPE=text/html:Tom Gaebel &amp; his Orchestra „A Swinging Chr
	istmas“<br><br>Alle Jahre wieder…das gleiche Spiel: Geschenke unterm Tanne
	nbaum, die Gans im Ofen und Oma holt die Blockflöte raus. Jeder von uns ke
	nnt das, Weihnachten auf die klassische Art. Höchste Zeit für ein wenig Ab
	wechslung, meinen Sie nicht auch?<br>Tom Gaebel, Deutschlands angesagteste
	r Big-Band-Entertainer der alten Schule, beweist, dass es auch anders geht
	. Mit seiner großen Weihnachtsshow „A Swinging Christmas“ sorgt der Sänger
	 mit der Ausnahmestimme für glühende Wangen bei Jung und Junggebliebenen. 
	Von „White Christmas“ über „Jingle Bells“ bis „Let It Snow” – Tom Gaebel u
	nd sein Orchester spielen die schönsten amerikanischen WeihnachtsEvergreen
	s und moderne Klassiker wie „Driving Home For Christmas“ oder „ All I Want
	 For Christmas Is You“ im heißen Easy-Listening-Sound. Ganz in der Traditi
	on von Showlegenden wie Frank Sinatra, Dean Martin und Co.<br>Es muss nich
	t immer „O Tannenbaum“ sein! Seit dem überragenden Erfolg der „Swinging Ch
	ristmas Show“ im Jahre 2010 zählen die jährlichen Weihnachts-Specials zu G
	aebel‘s persönlichen Highlights in seinem Konzertkalender: „Für mich ist e
	s immer eine riesige Freude, dem Publikum eine Show zu präsentieren, die a
	nders ist als das übliche Kling Glöckchen-Einerlei. Eher wie Weihnachten i
	n Las Vegas, voller Glanz, Glamour und guter Laune.“<br>Entsprechend dicht
	 gepackt liegen die musikalischen Geschenke und Überraschungen auf dem Sch
	litten des Crooners. Genau das Richtige für alle, die sich zur Abwechslung
	 einmal in die Weihnachtstage swingen wollen anstatt zu schunkeln. Freuen 
	Sie sich auf eine mitreißende Christmas-Party, bei der Winterfrust und Vor
	weihnachtsstress keine Chance haben.<br>A Swinging Christmas: Tom Gaebel &
	amp; His Orchestra laden herzlich ein!<br><br>Weitere Informationen:<br><a
	 href="https://seidenweberhaus.de/event/tom-gaebel-his-orchestra/">https:/
	/seidenweberhaus.de/event/tom-gaebel-his-orchestra/</a><br>
BEGIN:VALARM
ACTION:DISPLAY
DESCRIPTION:Tom Gaebel & his Orchestra - A Swinging Christmas 2026
TRIGGER:-PT1H
END:VALARM
END:VEVENT
END:VCALENDAR
