BEGIN:VCALENDAR
VERSION:2.0
CALSCALE:GREGORIAN
PRODID:adamgibbons/ics
METHOD:PUBLISH
X-PUBLISHED-TTL:PT1H
BEGIN:VEVENT
UID:4615@kiktik.de
SUMMARY:The Offenders
DTSTAMP:20260424T063750Z
DTSTART:20261023T180000Z
DTEND:20261023T180000Z
DESCRIPTION:Einlass: 19:00 Uhr\n\n20 Jahre The Offenders!\nAnlässlich diese
	s Jubiläums veröffentlicht die Band im Februar 2025 ihr zehntes\nAlbum mit
	 dem Titel: STORM OVER THE MAINLAND bei Sunny Bastards und Cargo\nRecords.
	 Der Sound dieses Albums vereint erneut verschiedenste musikalische\nEinfl
	üsse\, welche die Band in den letzten Jahren geprägt haben: Dazu gehören d
	ie\nunverwechselbare Mischung aus treibenden Offbeats\, wie im Song “Parti
	zani in\nBudapest”\, die seit Gründung der Band zu ihrem Wesen gehören\, s
	owie der rauher\ngewordene Punkrock\, der mittlerweile tonangebend für die
	 Band geworden ist\, als\nauch die inzwischen fest zum Ensemble gehörende 
	Mandoline etwa im Song: “Off My\nChest”. Vom Ska-Punk “The Way People Thin
	k” bis zur melodischen Gitarrenriff\nHymne “Sixteenth Round” sind alle Son
	gs eine direkte Ansage an Herz und Hirn\,\nsowie ein gehöriger Tritt in de
	n Hintern. Es ist eine einzigartige Mischung\nmusikalischer und thematisch
	er Stile\, die sich Release für Release bewährt und\nentwickelt hat. Berei
	t für den nächsten Singalong-Refrain oder den nächsten\nDancefloor-Hit\, a
	lso Party einerseits\, aber auch stets Engagement und eine\neindeutige Hal
	tung andererseits: Seit ihrer Gründung unterstützen The Offenders\nantifas
	chistische und antirassistische Jugendclubs\, Kundgebungen\, Hausprojekte\
	nund Fußballgruppen in ganz Europa und darüber hinaus. Ihre Botschaft verk
	ünden\nsie dementsprechend auch in ihren neuen Songs: Von „Partizani in Bu
	dapest“\n(gegen den ungarischen Neonaziaufmarsch namens “Tag der Ehre”) bi
	s hin zu „The\nWay the People Think“ (über den Aufstieg des rechtspopulist
	ischen Denkens in\nDeutschland) gibt es stets eine Mischung aus sozialer K
	ritik\, privaten Themen\nund persönlichen Lebenserfahrungen\, wie in den S
	ongs „The Breach“ oder „Off my\nChest“ zu hören ist. Die Offenders wurden 
	2005 in Cosenza (Italien) gegründet\nund zogen Ende 2008 nach Berlin. Zu i
	hren bekanntesten Hits gehören: „Hooligan\nReggae“ (ein Dancefloor-Klassik
	er aus ihrem ersten Album) und „Marchez“ (der\nrebellische Sound aus Class
	 of Nations – mit derzeit über 1\,6 Millionen Streams\nauf Spotify). Die O
	ffenders haben unzählige Touren durch Europa gemacht\, darüber\nhinaus Tou
	ren durch Russland\, China und zuletzt durch Mexiko. Sie sind bei\nFestiva
	ls wie Mighty Sounds (Tschechien)\, Rebellion (UK)\, Spirit from the\nStre
	ets (DE)\, Sjock (BE)\, Couvre Feu (FR)\, Ruhrpott Rodeo (DE)\, Los Almiro
	s\n(GR)\, Rudeboys Unity (CH) und vielen weiteren aufgetreten. Sie teilten
	 die Bühne\nmit Bands wie: Bad Religion\, NOFX\, Korn\, Flogging Molly\, D
	ropkick Murphys\,\nSocial Distortion\, UK Subs\, Agnostic Front\, Selecter
	\, Discharge\, Sick of it All\,\nReal McKenzies\, Cock Sparrer\, Slime\, A
	ntilopen Gang\, Pennywise\, Toy Dolls und\nvielen anderen!\n \n\n\n\nWeite
	re Informationen:\nhttps://cms.kulturrampe.de/event/the-offenders-4/\n[htt
	ps://cms.kulturrampe.de/event/the-offenders-4/]\n
URL:https://kiktik.de/event/the-offenders
LOCATION:Kulturrampe Krefeld - siehe Quelle
STATUS:CONFIRMED
CATEGORIES:KREFELD,Musik,Party
X-ALT-DESC;FMTTYPE=text/html:Einlass: 19:00 Uhr<br><br>20 Jahre The Offende
	rs!<br>Anlässlich dieses Jubiläums veröffentlicht die Band im Februar 2025
	 ihr zehntes Album mit dem Titel: STORM OVER THE MAINLAND bei Sunny Bastar
	ds und Cargo Records. Der Sound dieses Albums vereint erneut verschiedenst
	e musikalische Einflüsse, welche die Band in den letzten Jahren geprägt ha
	ben: Dazu gehören die unverwechselbare Mischung aus treibenden Offbeats, w
	ie im Song “Partizani in Budapest”, die seit Gründung der Band zu ihrem We
	sen gehören, sowie der rauher gewordene Punkrock, der mittlerweile tonange
	bend für die Band geworden ist, als auch die inzwischen fest zum Ensemble 
	gehörende Mandoline etwa im Song: “Off My Chest”. Vom Ska-Punk “The Way Pe
	ople Think” bis zur melodischen Gitarrenriff Hymne “Sixteenth Round” sind 
	alle Songs eine direkte Ansage an Herz und Hirn, sowie ein gehöriger Tritt
	 in den Hintern. Es ist eine einzigartige Mischung musikalischer und thema
	tischer Stile, die sich Release für Release bewährt und entwickelt hat. Be
	reit für den nächsten Singalong-Refrain oder den nächsten Dancefloor-Hit, 
	also Party einerseits, aber auch stets Engagement und eine eindeutige Halt
	ung andererseits: Seit ihrer Gründung unterstützen The Offenders antifasch
	istische und antirassistische Jugendclubs, Kundgebungen, Hausprojekte und 
	Fußballgruppen in ganz Europa und darüber hinaus. Ihre Botschaft verkünden
	 sie dementsprechend auch in ihren neuen Songs: Von „Partizani in Budapest
	“ (gegen den ungarischen Neonaziaufmarsch namens “Tag der Ehre”) bis hin z
	u „The Way the People Think“ (über den Aufstieg des rechtspopulistischen D
	enkens in Deutschland) gibt es stets eine Mischung aus sozialer Kritik, pr
	ivaten Themen und persönlichen Lebenserfahrungen, wie in den Songs „The Br
	each“ oder „Off my Chest“ zu hören ist. Die Offenders wurden 2005 in Cosen
	za (Italien) gegründet und zogen Ende 2008 nach Berlin. Zu ihren bekanntes
	ten Hits gehören: „Hooligan Reggae“ (ein Dancefloor-Klassiker aus ihrem er
	sten Album) und „Marchez“ (der rebellische Sound aus Class of Nations – mi
	t derzeit über 1,6 Millionen Streams auf Spotify). Die Offenders haben unz
	ählige Touren durch Europa gemacht, darüber hinaus Touren durch Russland, 
	China und zuletzt durch Mexiko. Sie sind bei Festivals wie Mighty Sounds (
	Tschechien), Rebellion (UK), Spirit from the Streets (DE), Sjock (BE), Cou
	vre Feu (FR), Ruhrpott Rodeo (DE), Los Almiros (GR), Rudeboys Unity (CH) u
	nd vielen weiteren aufgetreten. Sie teilten die Bühne mit Bands wie: Bad R
	eligion, NOFX, Korn, Flogging Molly, Dropkick Murphys, Social Distortion, 
	UK Subs, Agnostic Front, Selecter, Discharge, Sick of it All, Real McKenzi
	es, Cock Sparrer, Slime, Antilopen Gang, Pennywise, Toy Dolls und vielen a
	nderen!<br>&nbsp;<br><br><br><br>Weitere Informationen:<br><a href="https:
	//cms.kulturrampe.de/event/the-offenders-4/">https://cms.kulturrampe.de/ev
	ent/the-offenders-4/</a><br>
BEGIN:VALARM
ACTION:DISPLAY
DESCRIPTION:The Offenders
TRIGGER:-PT1H
END:VALARM
END:VEVENT
END:VCALENDAR
