BEGIN:VCALENDAR
VERSION:2.0
CALSCALE:GREGORIAN
PRODID:adamgibbons/ics
METHOD:PUBLISH
X-PUBLISHED-TTL:PT1H
BEGIN:VEVENT
UID:4159@kiktik.de
SUMMARY:Take's Bar Public Viewing Krefeld Pinguine | Fr. 24.04
DTSTAMP:20260424T063402Z
DTSTART:20260424T170000Z
DTEND:20260425T010000Z
DESCRIPTION:\nFreitag bei uns:\nWir zeigen das Spiel der Krefelder Pinguine
	 als Public Viewing in unserem\nKaraoke-Raum 🏒📺\nKommt vorbei\, schaut das
	 Spiel gemeinsam mit uns und genießt den Abend 🍻\nWer trotzdem Bock auf Bi
	ngo hat\, kann parallel an unserem eigenen Bingo-Format\nteilnehmen 🎱\n\n\
	nWeitere Informationen:\nhttps://taketv.net/ [https://taketv.net/]\n
URL:https://kiktik.de/event/takes-bar-public-viewing-krefeld-pinguine-or-fr
	-2404
LOCATION:Alte Linner Straße 93 - 97 - Alte Linner Straße 93 - 97\, 47799 Kr
	efeld
STATUS:CONFIRMED
CATEGORIES:KREFELD
X-ALT-DESC;FMTTYPE=text/html:<br>Freitag bei uns:<br>Wir zeigen das Spiel d
	er Krefelder Pinguine als Public Viewing in unserem Karaoke-Raum 🏒📺<br>Kom
	mt vorbei, schaut das Spiel gemeinsam mit uns und genießt den Abend 🍻<br>W
	er trotzdem Bock auf Bingo hat, kann parallel an unserem eigenen Bingo-For
	mat teilnehmen 🎱<br><br><br>Weitere Informationen:<br><a href="https://tak
	etv.net/">https://taketv.net/</a><br>
BEGIN:VALARM
ACTION:DISPLAY
DESCRIPTION:Take's Bar Public Viewing Krefeld Pinguine | Fr. 24.04
TRIGGER:-PT1H
END:VALARM
END:VEVENT
END:VCALENDAR
