BEGIN:VCALENDAR
VERSION:2.0
CALSCALE:GREGORIAN
PRODID:adamgibbons/ics
METHOD:PUBLISH
X-PUBLISHED-TTL:PT1H
BEGIN:VEVENT
UID:4281@kiktik.de
SUMMARY:Saisoneröffnung beim USV 08
DTSTAMP:20260424T063833Z
DTSTART:20260510T080000Z
DTEND:20260510T140000Z
DESCRIPTION:\nDer Uerdinger Schwimmverein 08 e.V. eröffnet offiziell am 10.
	05.2026 die\nSommersaison 2026 und lädt Mitglieder und Gäste herzlich zur 
	großen\nSaisoneröffnung auf die Vereinsanlage am Waldsee ein. Von 10:00 bi
	s 16:00 Uhr\nerwartet große und kleine Besucherinnen und Besucher ein abwe
	chslungsreiches\nProgramm für die ganze Familie – bei freiem Eintritt. Zus
	ätzlich gibt es\nexklusiv an diesem Tag vor Ort Rabatte sowohl bei der Ver
	einsaufnahmegebühr\nsowie im vereinseigenen Sport-Shop "Water&Waves".\n \n
	*Rabatte nur gültig am Tag der Saisoneröffnung\, dem 10.05.2026.\n\n\nWeit
	ere Informationen:\nhttps://www.usv-08.de/de/events/Events-am-Waldsee/sais
	oneroeffnung/\n[https://www.usv-08.de/de/events/Events-am-Waldsee/saisoner
	oeffnung/]\n
URL:https://kiktik.de/event/saisoneroffnung-beim-usv-08
LOCATION:Am Waldsee 25 - Am Waldsee 25\, 47829 Krefeld
STATUS:CONFIRMED
CATEGORIES:KREFELD
X-ALT-DESC;FMTTYPE=text/html:<br>Der Uerdinger Schwimmverein 08 e.V. eröffn
	et offiziell am 10.05.2026 die Sommersaison 2026 und lädt Mitglieder und G
	äste herzlich zur großen Saisoneröffnung auf die Vereinsanlage am Waldsee 
	ein. Von 10:00 bis 16:00 Uhr erwartet große und kleine Besucherinnen und B
	esucher ein abwechslungsreiches Programm für die ganze Familie – bei freie
	m Eintritt. Zusätzlich gibt es exklusiv an diesem Tag vor Ort Rabatte sowo
	hl bei der Vereinsaufnahmegebühr sowie im vereinseigenen Sport-Shop "Water
	&amp;Waves".<br>&nbsp;<br>*Rabatte nur gültig am Tag der Saisoneröffnung, 
	dem 10.05.2026.<br><br><br>Weitere Informationen:<br><a href="https://www.
	usv-08.de/de/events/Events-am-Waldsee/saisoneroeffnung/">https://www.usv-0
	8.de/de/events/Events-am-Waldsee/saisoneroeffnung/</a><br>
BEGIN:VALARM
ACTION:DISPLAY
DESCRIPTION:Saisoneröffnung beim USV 08
TRIGGER:-PT1H
END:VALARM
END:VEVENT
END:VCALENDAR
