BEGIN:VCALENDAR
VERSION:2.0
CALSCALE:GREGORIAN
PRODID:adamgibbons/ics
METHOD:PUBLISH
X-PUBLISHED-TTL:PT1H
BEGIN:VEVENT
UID:4155@kiktik.de
SUMMARY:Public Viewing – Kassel vs. KEV
DTSTAMP:20260423T080224Z
DTSTART:20260424T160000Z
DESCRIPTION:Public Viewing im SchlachtGarten Open Air auf großer Leinwand u
	nd mit fettem\nSound! Eintritt frei I Kein Mvz Spende für die Übertragungs
	rechte / Technik /\nSecurity willkommen 🙏 Nach der wahnsinns Saison domini
	ert der KEV auch die\nfinalen Playoff Spiele und führt nun mit 3 zu 0 Sieg
	en deutlich gegen Kassel.\nDer direkte Aufstieg ist in greifbarste Nähe ge
	rückt und kann schon kommenden\nFreitag in Kassel klar gemacht werden. Den
	 Knaller wollen wir uns natürlich\nnicht entgehen lassen und zeigen das Sp
	iel! Das Wetter spielt mit\, wir geben\nVollgas in der Vorbereitung und de
	r Eintritt ist frei – was will man mehr?! Also\nwir sehen uns im Garten un
	d die Pinguine auf dem Eis! Einlass ab 18 Uhr Eintritt\nfrei Wir danken Eu
	ch für eine kleine Spende für die Übertragungsrechte / Technik\n/ Security
	\n\nWeitere Informationen:\nhttps://schlachthof-krefeld.de/e/public-viewin
	g-kassel-vs-kev/\n[https://schlachthof-krefeld.de/e/public-viewing-kassel-
	vs-kev/]\n
URL:https://kiktik.de/event/public-viewing-kassel-vs-kev
LOCATION:Schlachthof - 47799 Krefeld
STATUS:CONFIRMED
CATEGORIES:KREFELD
X-ALT-DESC;FMTTYPE=text/html:Public Viewing im SchlachtGarten Open Air auf 
	großer Leinwand und mit fettem Sound! Eintritt frei I Kein Mvz Spende für 
	die Übertragungsrechte / Technik / Security willkommen 🙏 Nach der wahnsinn
	s Saison dominiert der KEV auch die finalen Playoff Spiele und führt nun m
	it 3 zu 0 Siegen deutlich gegen Kassel. Der direkte Aufstieg ist in greifb
	arste Nähe gerückt und kann schon kommenden Freitag in Kassel klar gemacht
	 werden. Den Knaller wollen wir uns natürlich nicht entgehen lassen und ze
	igen das Spiel! Das Wetter spielt mit, wir geben Vollgas in der Vorbereitu
	ng und der Eintritt ist frei – was will man mehr?! Also wir sehen uns im G
	arten und die Pinguine auf dem Eis! Einlass ab 18 Uhr Eintritt frei Wir da
	nken Euch für eine kleine Spende für die Übertragungsrechte / Technik / Se
	curity<br><br>Weitere Informationen:<br><a href="https://schlachthof-krefe
	ld.de/e/public-viewing-kassel-vs-kev/">https://schlachthof-krefeld.de/e/pu
	blic-viewing-kassel-vs-kev/</a><br>
BEGIN:VALARM
ACTION:DISPLAY
DESCRIPTION:Public Viewing – Kassel vs. KEV
TRIGGER:-PT1H
END:VALARM
END:VEVENT
END:VCALENDAR
