BEGIN:VCALENDAR
VERSION:2.0
CALSCALE:GREGORIAN
PRODID:adamgibbons/ics
METHOD:PUBLISH
X-PUBLISHED-TTL:PT1H
BEGIN:VEVENT
UID:4260@kiktik.de
SUMMARY:OOM X Königshofer
DTSTAMP:20260420T090239Z
DTSTART:20260509T120000Z
DTEND:20260509T200000Z
DESCRIPTION:\nOOM x Königshofer\nUnser größtes Event bisher.\nAm 09. April 
	geht’s im Neptunes Beach Krefeld an den Start – Strand\, Sonne\,\nWasser u
	nd ein Mix aus House\, Afro House\, Tech House und Trance.\nUnser Line Up 
	spielte bereits in Szene Clubs wie dem Ritter Butzke\, dem\nBootshaus oder
	 der Nature One. Auch international waren unsere Artists schon\nunterwegs:
	 UK\, Niederlande\, Luxemburg\, Österreich\, Japan – the list goes on.\nLi
	ne-up:\nMervin Oichoe\nmTm\nPerfect Timing\nFroon & Hill\nLa Renzo\nCH4YN\
	n14:00 – 22:00 Uhr | Neptunes Beach\, Krefeld\nOOM x Königshofer\n\n\nWeit
	ere Informationen:\nhttps://www.instagram.com/oom_ofc/ [https://www.instag
	ram.com/oom_ofc/]\n
URL:https://kiktik.de/event/oom-x-konigshofer
LOCATION:Karolingerstraße 18 - Karolingerstraße 18\, 40223 Düsseldorf
STATUS:CONFIRMED
CATEGORIES:KREFELD
X-ALT-DESC;FMTTYPE=text/html:<br>OOM x Königshofer<br>Unser größtes Event b
	isher.<br>Am 09. April geht’s im Neptunes Beach Krefeld an den Start – Str
	and, Sonne, Wasser und ein Mix aus House, Afro House, Tech House und Tranc
	e.<br>Unser Line Up spielte bereits in Szene Clubs wie dem Ritter Butzke, 
	dem Bootshaus oder der Nature One. Auch international waren unsere Artists
	 schon unterwegs: UK, Niederlande, Luxemburg, Österreich, Japan – the list
	 goes on.<br>Line-up:<br>Mervin Oichoe<br>mTm<br>Perfect Timing<br>Froon &
	amp; Hill<br>La Renzo<br>CH4YN<br>14:00 – 22:00 Uhr | Neptunes Beach, Kref
	eld<br>OOM x Königshofer<br><br><br>Weitere Informationen:<br><a href="htt
	ps://www.instagram.com/oom_ofc/">https://www.instagram.com/oom_ofc/</a><br
	>
BEGIN:VALARM
ACTION:DISPLAY
DESCRIPTION:OOM X Königshofer
TRIGGER:-PT1H
END:VALARM
END:VEVENT
END:VCALENDAR
