BEGIN:VCALENDAR
VERSION:2.0
CALSCALE:GREGORIAN
PRODID:adamgibbons/ics
METHOD:PUBLISH
X-PUBLISHED-TTL:PT1H
BEGIN:VEVENT
UID:4431@kiktik.de
SUMMARY:*Musik & Lesung im Krefeld Pavillon* - GLASS for TWO
DTSTAMP:20260422T065128Z
DTSTART:20260614T130000Z
DTEND:20260614T150000Z
DESCRIPTION:Danae Dörken – Klavier\nPascal Schumacher – Vibraphon\n„GLASS f
	or TWO“\nDie Hommage des Vibraphonisten Pascal Schumacher und der Pianisti
	n Danae Dörken\nan Phil Glass entfaltet nicht nur die hypnotische Kraft de
	s großen Minimalisten\,\nder in den 60ern die Klassik aus den Angeln hob. 
	Das Duo taucht in die feinsten\nFarbnuancen der Verbindung seiner beiden I
	nstrumente\, die sich im jeweiligen\nResonanzraum in wunderbarer Weise geg
	enseitig aufschwingen. Soeben mit dem Opus\nKlassik in der Kategorie „New 
	Classics“ ausgezeichnet\, präsentieren Pascal\nSchumacher und die deutsch-
	griechische Pianistin Danae Dörken mit „GLASS for\nTWO“ ein Projekt von au
	ßergewöhnlicher Intensität.\n\nTickets gibt es unter www.projektmik.com [h
	ttp://www.projektmik.com].\n\nWeitere Informationen:\nhttps://projektmik.c
	om [https://projektmik.com]\n
URL:https://kiktik.de/event/musik-and-lesung-im-krefeld-pavillon-glass-for-
	two
LOCATION:Krefeld Pavillon - Wilhelmshofallee Ecke Kaiserstraße\, 47800 Kref
	eld
STATUS:CONFIRMED
CATEGORIES:KREFELD,Musik,Literatur
X-ALT-DESC;FMTTYPE=text/html:Danae Dörken – Klavier<br><br>Pascal Schumache
	r – Vibraphon<br><br>„GLASS for TWO“<br><br>Die Hommage des Vibraphonisten
	 Pascal Schumacher und der Pianistin Danae Dörken an Phil Glass entfaltet 
	nicht nur die hypnotische Kraft des großen Minimalisten, der in den 60ern 
	die Klassik aus den Angeln hob. Das Duo taucht in die feinsten Farbnuancen
	 der Verbindung seiner beiden Instrumente, die sich im jeweiligen Resonanz
	raum in wunderbarer Weise gegenseitig aufschwingen. Soeben mit dem Opus Kl
	assik in der Kategorie „New Classics“ ausgezeichnet, präsentieren Pascal S
	chumacher und die deutsch-griechische Pianistin Danae Dörken mit „GLASS fo
	r TWO“ ein Projekt von außergewöhnlicher Intensität. <br><br><br><br>Ticke
	ts gibt es unter <a href="http://www.projektmik.com" target="_blank">www.p
	rojektmik.com</a>.<br><br>Weitere Informationen:<br><a href="https://proje
	ktmik.com">https://projektmik.com</a><br>
BEGIN:VALARM
ACTION:DISPLAY
DESCRIPTION:*Musik & Lesung im Krefeld Pavillon* - GLASS for TWO
TRIGGER:-PT1H
END:VALARM
END:VEVENT
END:VCALENDAR
