BEGIN:VCALENDAR
VERSION:2.0
CALSCALE:GREGORIAN
PRODID:adamgibbons/ics
METHOD:PUBLISH
X-PUBLISHED-TTL:PT1H
BEGIN:VEVENT
UID:4414@kiktik.de
SUMMARY:*Musik & Lesung im Krefeld Pavillon*  - Bach Total
DTSTAMP:20260422T065031Z
DTSTART:20260611T170000Z
DTEND:20260611T190000Z
DESCRIPTION:Donnerstag\, 11.6.2026\n19:00 Uhr\n\nMartin Stadtfeld\, Klavier
	\n„Bach Total“\n\nMartin Stadtfeld beschäftigt sich neu mit seinem persönl
	ichen Wegweiser in den\nKosmos der Musikgeschichte. Die Musik von Johann S
	ebastian Bach markierte nicht\nnur den Beginn seiner außergewöhnlichen Kar
	riere\, als er den Ersten Preis beim\nBach-Wettbewerb Leipzig gewann\, Sta
	dtfeld hat immer wieder neue Facetten im Werk\ndes Thomaskantors entdeckt.
	 „Bach total“ ist eine ganz persönliche Annäherung an\nden großen Barockko
	mponisten – ein Abend für alle\, die Bach lieben oder neu\nentdecken wolle
	n.\n\n\nTickets gibt es unter www.projektmik.com [http://www.projektmik.co
	m].\n\n\n\nWeitere Informationen:\nhttps://projektmik.com [https://projekt
	mik.com]\n
URL:https://kiktik.de/event/musik-and-lesung-im-krefeld-pavillon-bach-total
LOCATION:Krefeld Pavillon - Wilhelmshofallee Ecke Kaiserstraße\, 47800 Kref
	eld
STATUS:CONFIRMED
CATEGORIES:KREFELD,Musik,Literatur
X-ALT-DESC;FMTTYPE=text/html:Donnerstag, 11.6.2026<br><br>19:00 Uhr<br><br>
	<br><br>Martin Stadtfeld, Klavier<br><br>„Bach Total“<br><br><br><br>Marti
	n Stadtfeld beschäftigt sich neu mit seinem persönlichen Wegweiser in den 
	Kosmos der Musikgeschichte. Die Musik von Johann Sebastian Bach markierte 
	nicht nur den Beginn seiner außergewöhnlichen Karriere, als er den Ersten 
	Preis beim Bach-Wettbewerb Leipzig gewann, Stadtfeld hat immer wieder neue
	 Facetten im Werk des Thomaskantors entdeckt. „Bach total“ ist eine ganz p
	ersönliche Annäherung an den großen Barockkomponisten – ein Abend für alle
	, die Bach lieben oder neu entdecken wollen.<br><br> <br><br><br><br>Ticke
	ts gibt es unter <a href="http://www.projektmik.com" target="_blank">www.p
	rojektmik.com</a>.<br><br><br><br><br><br>Weitere Informationen:<br><a hre
	f="https://projektmik.com">https://projektmik.com</a><br>
BEGIN:VALARM
ACTION:DISPLAY
DESCRIPTION:*Musik & Lesung im Krefeld Pavillon*  - Bach Total
TRIGGER:-PT1H
END:VALARM
END:VEVENT
END:VCALENDAR
