BEGIN:VCALENDAR
VERSION:2.0
CALSCALE:GREGORIAN
PRODID:adamgibbons/ics
METHOD:PUBLISH
X-PUBLISHED-TTL:PT1H
BEGIN:VEVENT
UID:4666@kiktik.de
SUMMARY:Mirja Boes & Die Honkey Donkeys
DTSTAMP:20260421T064816Z
DTSTART:20270701T170000Z
DESCRIPTION:Kommen Sie! Staunen Sie!\nSehen Sie die letzte\, echte\, noch l
	ebende Mirja Boes!\nNur Mirja Boes ist Mutter\, Bandquälerin und vor allem
	 ist sie seit ihrer letzten\nTour noch älter! Irre!\nDeswegen heißt es ab 
	sofort bei der Queen of Quatsch: „carpfe diem – Lutsche den\nTag!“\nDas ma
	cht absolut gar keinen Sinn\, aber jede Menge Spaß. Erleben sie Mirja Boes
	\ngefangen in der Telefonwarteschleife des Grauens.\nWenn sie sich erhänge
	n wollen\, drücken sie die 1.\nAußerdem im Angebot: Der epische Kampf eine
	r tapferen Hausfrau mit dem absolut\nbösen Endgegner der Zivilisation: Dem
	 Duschabzieher!\nDen würde Mirja übrigens dem nächsten Kaffee-Jesus durchs
	 Gesicht ziehen\, wenn\nder selbsternannte Barista-Heiland was super Schla
	ues über aluminiumfreie\nKaffeepads predigt.\nSonst ist aber alles ganz ha
	rmonisch in ihrem neuen Programm! Ehrlich!\nGut – ihrer Band\, den HonkeyD
	onkeys geht’s natürlich an den Kragen…aber sonst-\ngaaaaanz harmonisch!\n 
	\n„carpfe diem – Lutsche den Tag“ – das neue Programm!\nEs hätte auch: „Aa
	l inclusive“ heißen können oder „Hecht unwiderstehlich“ oder\n„Zicke Zacke
	\, Zicke Zacke\, Koi\, Koi\, Koi“\, aber das wäre albern.\n \nWeitere Info
	s und Termine unter www.mirja-boes.de [http://www.mirja-boes.de]\n\nWeiter
	e Informationen:\nhttps://kufa-reloaded.de/veranstaltung/mirja-boes-die-ho
	nkey-donkeys-2/\n[https://kufa-reloaded.de/veranstaltung/mirja-boes-die-ho
	nkey-donkeys-2/]\n
URL:https://kiktik.de/event/mirja-boes-and-die-honkey-donkeys
LOCATION:Kulturfabrik Krefeld - Dießemer Str. 13\, 47799 Krefeld
STATUS:CONFIRMED
CATEGORIES:KREFELD,Musik
X-ALT-DESC;FMTTYPE=text/html:Kommen Sie! Staunen Sie!<br>Sehen Sie die letz
	te, echte, noch lebende Mirja Boes!<br>Nur Mirja Boes ist Mutter, Bandquäl
	erin und vor allem ist sie seit ihrer letzten Tour noch älter! Irre!<br>De
	swegen heißt es ab sofort bei der Queen of Quatsch: „carpfe diem – Lutsche
	 den Tag!“<br>Das macht absolut gar keinen Sinn, aber jede Menge Spaß. Erl
	eben sie Mirja Boes gefangen in der Telefonwarteschleife des Grauens.<br>W
	enn sie sich erhängen wollen, drücken sie die 1.<br>Außerdem im Angebot: D
	er epische Kampf einer tapferen Hausfrau mit dem absolut bösen Endgegner d
	er Zivilisation: Dem Duschabzieher!<br>Den würde Mirja übrigens dem nächst
	en Kaffee-Jesus durchs Gesicht ziehen, wenn der selbsternannte Barista-Hei
	land was super Schlaues über aluminiumfreie Kaffeepads predigt.<br>Sonst i
	st aber alles ganz harmonisch in ihrem neuen Programm! Ehrlich!<br>Gut – i
	hrer Band, den HonkeyDonkeys geht’s natürlich an den Kragen…aber sonst- ga
	aaaanz harmonisch!<br>&nbsp;<br>„carpfe diem – Lutsche den Tag“ – das neue
	 Programm!<br>Es hätte auch: „Aal inclusive“ heißen können oder „Hecht unw
	iderstehlich“ oder „Zicke Zacke, Zicke Zacke, Koi, Koi, Koi“, aber das wär
	e albern.<br>&nbsp;<br>Weitere Infos und Termine unter <a href="http://www
	.mirja-boes.de" target="_blank">www.mirja-boes.de</a><br><br>Weitere Infor
	mationen:<br><a href="https://kufa-reloaded.de/veranstaltung/mirja-boes-di
	e-honkey-donkeys-2/">https://kufa-reloaded.de/veranstaltung/mirja-boes-die
	-honkey-donkeys-2/</a><br>
BEGIN:VALARM
ACTION:DISPLAY
DESCRIPTION:Mirja Boes & Die Honkey Donkeys
TRIGGER:-PT1H
END:VALARM
END:VEVENT
END:VCALENDAR
