BEGIN:VCALENDAR
VERSION:2.0
CALSCALE:GREGORIAN
PRODID:adamgibbons/ics
METHOD:PUBLISH
X-PUBLISHED-TTL:PT1H
BEGIN:VEVENT
UID:4475@kiktik.de
SUMMARY:Mehrfamilienhaus mit Sollbruchstellen
DTSTAMP:20260424T064415Z
DTSTART:20260621T130000Z
DTEND:20260621T150000Z
DESCRIPTION:Zum Abschluss unseres neuen kleinen Festivals „Literaturbezirk 
	Nord“ haben wir\nzwei Lyrikerinnen eingeladen\, die es von weit und weiter
	 her nach\nNorddeutschland gezogen hat. Wie ist es\, dort oben Gedichte zu
	 schreiben? Sollte\nes da hauptsächlich um Wind und Wetter\, Wasser und De
	iche gehen?Weit gefehlt\,\nauch wenn zumindest in manchen Gedichten der in
	 Erfurt geborenen\, aber längst in\nGreifswald lebenden Literatin\, Künstl
	erin und Singer-SongwriterinAnne Martindas\nlyrische Ich zuweilen durch di
	e Dünen wandert. In ihrem Band „sollbruchstellen“\n(parasitenpresse) besch
	äftigt sie sich mit der Welt als zerbrechlichem und\ngleichzeitig überkomp
	lexem Ort\, in dem wir nach Sinn suchen\, aber häufig nur\nKonsum finden. 
	Kein Wunder\, dass ihre Texte und Songs da zwischen lächelnder\nIronie\, n
	üchternem Achselzucken und heftiger Wut changieren.AuchDonka Dimovaist\nna
	ch Norddeutschland umgezogen. Geboren in Burgas\, Bulgarien\, lebt sie sei
	t dem\nStudium in Bremen. Sie ist Lyrikerin und Sprachkünstlerin auf Deuts
	ch und\nBulgarisch. Die Prosagedichte in ihrem ersten auf Deutsch verfasst
	en Lyrikband\n(KLAK Verlag) erzählen von den Bewohnern im „Mehrfamilienhau
	s ohne Aussicht“ (so\nder Buchtitel)\, über ihre Erwartungen und das Schei
	tern\, familiäre Dramen und\ndie Suche nach Zukunft\, über den Stolz und f
	ehlende Worte. Befragt und zum\nSprechen gebracht werden die Nachbarn von 
	Nadezda\, deren Name übersetzt Hoffnung\nbedeutet.Die beiden Lyrikerinnen 
	wiederum werden befragt von Moderatorin Marlene\nJäger\, die mit ihnen übe
	r ihre Texte und das Schreiben an sich\nspricht.Mehrfamilienhaus mit Sollb
	ruchstellenNach Eintrag in das Formular\nerhalten Sie eine Bestätigung Ihr
	er Reservierung per Mail. Bitte schauen Sie\nauch im Spamordner nach. Ihre
	 reservierten Karten können Sie ab 30 Minuten vor\nBeginn der Veranstaltun
	g an der Abendkasse abholen. Wir haben nur eine Barkasse\nund freuen uns ü
	ber kleine Scheine. Sollten Sie kurzfristig doch nicht an der\nVeranstaltu
	ng teilnehmen können\, bitten wir um eine rechtzeitige Absage an\nliteratu
	rhaus@krefeld.de. Über etwaige Neuigkeiten zur Veranstaltung werden Sie\ne
	benfalls per Mail informiert. Während der Veranstaltung werden Foto- und/o
	der\nVideoaufnahmen für Öffentlichkeitsarbeit und Dokumentation erstellt\n
	(berechtigtes Interesse nach DSGVO Art. 6 Abs. 1f). Sollten Sie nicht\nein
	verstanden sein\, wenden Sie sich kurzfristig an uns.0TeilnehmerHier\nrese
	rvierenTeilnehmen\n\nWeitere Informationen:\nhttps://nlh-krefeld.de/verans
	taltung/anne-martin-donka-dimova/\n[https://nlh-krefeld.de/veranstaltung/a
	nne-martin-donka-dimova/]\n
URL:https://kiktik.de/event/mehrfamilienhaus-mit-sollbruchstellen
LOCATION:Zeughaus der Prinzengarde - Glindholzstraße 196\, 47800 Krefeld
STATUS:CONFIRMED
CATEGORIES:KREFELD,Musik,Literatur
X-ALT-DESC;FMTTYPE=text/html:Zum Abschluss unseres neuen kleinen Festivals 
	„Literaturbezirk Nord“ haben wir zwei Lyrikerinnen eingeladen, die es von 
	weit und weiter her nach Norddeutschland gezogen hat. Wie ist es, dort obe
	n Gedichte zu schreiben? Sollte es da hauptsächlich um Wind und Wetter, Wa
	sser und Deiche gehen?Weit gefehlt, auch wenn zumindest in manchen Gedicht
	en der in Erfurt geborenen, aber längst in Greifswald lebenden Literatin, 
	Künstlerin und Singer-SongwriterinAnne Martindas lyrische Ich zuweilen dur
	ch die Dünen wandert. In ihrem Band „sollbruchstellen“ (parasitenpresse) b
	eschäftigt sie sich mit der Welt als zerbrechlichem und gleichzeitig überk
	omplexem Ort, in dem wir nach Sinn suchen, aber häufig nur Konsum finden. 
	Kein Wunder, dass ihre Texte und Songs da zwischen lächelnder Ironie, nüch
	ternem Achselzucken und heftiger Wut changieren.AuchDonka Dimovaist nach N
	orddeutschland umgezogen. Geboren in Burgas, Bulgarien, lebt sie seit dem 
	Studium in Bremen. Sie ist Lyrikerin und Sprachkünstlerin auf Deutsch und 
	Bulgarisch. Die Prosagedichte in ihrem ersten auf Deutsch verfassten Lyrik
	band (KLAK Verlag) erzählen von den Bewohnern im „Mehrfamilienhaus ohne Au
	ssicht“ (so der Buchtitel), über ihre Erwartungen und das Scheitern, famil
	iäre Dramen und die Suche nach Zukunft, über den Stolz und fehlende Worte.
	 Befragt und zum Sprechen gebracht werden die Nachbarn von Nadezda, deren 
	Name übersetzt Hoffnung bedeutet.Die beiden Lyrikerinnen wiederum werden b
	efragt von Moderatorin Marlene Jäger, die mit ihnen über ihre Texte und da
	s Schreiben an sich spricht.Mehrfamilienhaus mit SollbruchstellenNach Eint
	rag in das Formular erhalten Sie eine Bestätigung Ihrer Reservierung per M
	ail. Bitte schauen Sie auch im Spamordner nach. Ihre reservierten Karten k
	önnen Sie ab 30 Minuten vor Beginn der Veranstaltung an der Abendkasse abh
	olen. Wir haben nur eine Barkasse und freuen uns über kleine Scheine. Soll
	ten Sie kurzfristig doch nicht an der Veranstaltung teilnehmen können, bit
	ten wir um eine rechtzeitige Absage an literaturhaus@krefeld.de. Über etwa
	ige Neuigkeiten zur Veranstaltung werden Sie ebenfalls per Mail informiert
	. Während der Veranstaltung werden Foto- und/oder Videoaufnahmen für Öffen
	tlichkeitsarbeit und Dokumentation erstellt (berechtigtes Interesse nach D
	SGVO Art. 6&nbsp;Abs. 1f). Sollten Sie nicht einverstanden sein, wenden Si
	e sich kurzfristig an&nbsp;uns.0TeilnehmerHier reservierenTeilnehmen<br><b
	r>Weitere Informationen:<br><a href="https://nlh-krefeld.de/veranstaltung/
	anne-martin-donka-dimova/">https://nlh-krefeld.de/veranstaltung/anne-marti
	n-donka-dimova/</a><br>
BEGIN:VALARM
ACTION:DISPLAY
DESCRIPTION:Mehrfamilienhaus mit Sollbruchstellen
TRIGGER:-PT1H
END:VALARM
END:VEVENT
END:VCALENDAR
