BEGIN:VCALENDAR
VERSION:2.0
CALSCALE:GREGORIAN
PRODID:adamgibbons/ics
METHOD:PUBLISH
X-PUBLISHED-TTL:PT1H
BEGIN:VEVENT
UID:4268@kiktik.de
SUMMARY:Heimat Maat – Der Feierabendmarkt in Krefeld Linn | Sa. 09. Mai 202
	6
DTSTAMP:20260422T065158Z
DTSTART:20260509T150000Z
DTEND:20260509T200000Z
DESCRIPTION:\nHeimat Maat – Der Feierabendmarkt in Linn\nAm Samstag\, den 0
	9. Mai 2026\, laden wir euch herzlich zum Heimat Maat – unserem\nFeieraben
	dmarkt in Linn ein.\nFreut euch auf einen gemütlichen Abend mit Freunden\,
	 Nachbarn und guter Stimmung\nin besonderer Atmosphäre.\nDas erwartet euch
	:\n• Streetfood & regionale Spezialitäten\n• kühle Getränke & Bier\n• Live
	-Musik & musikalische Atmosphäre\n• schöne Marktstände aus der Region\n• e
	in Treffpunkt für ganz Linn\nKommt vorbei\, genießt einen entspannten Aben
	d und verbringt gemeinsam ein paar\nschöne Stunden bei Musik\, Essen und G
	etränken.\nSamstag\, 09. Mai 2026\nab 17:00 Uhr\nDanziger Platz | Marktpla
	tz | 47809 Krefeld Linn\nWir freuen uns auf euch!\nLiebe Grüße\nBürgervere
	in Linn & HeimatLiebe\n\n\nWeitere Informationen:\nhttps://buergerverein-l
	inn.de/ [https://buergerverein-linn.de/]\n
URL:https://kiktik.de/event/heimat-maat-der-feierabendmarkt-in-krefeld-linn
	-or-sa-09-mai-2026
LOCATION:Danziger Platz - Danziger Platz\, 47809 Krefeld
STATUS:CONFIRMED
CATEGORIES:KREFELD,Musik
X-ALT-DESC;FMTTYPE=text/html:<br>Heimat Maat – Der Feierabendmarkt in Linn<
	br>Am Samstag, den 09. Mai 2026, laden wir euch herzlich zum Heimat Maat –
	 unserem Feierabendmarkt in Linn ein.<br>Freut euch auf einen gemütlichen 
	Abend mit Freunden, Nachbarn und guter Stimmung in besonderer Atmosphäre.<
	br>Das erwartet euch:<br>• Streetfood &amp; regionale Spezialitäten<br>• k
	ühle Getränke &amp; Bier<br>• Live-Musik &amp; musikalische Atmosphäre<br>
	• schöne Marktstände aus der Region<br>• ein Treffpunkt für ganz Linn<br>K
	ommt vorbei, genießt einen entspannten Abend und verbringt gemeinsam ein p
	aar schöne Stunden bei Musik, Essen und Getränken.<br>Samstag, 09. Mai 202
	6<br>ab 17:00 Uhr<br>Danziger Platz | Marktplatz | 47809 Krefeld Linn<br>W
	ir freuen uns auf euch!<br>Liebe Grüße<br>Bürgerverein Linn &amp; HeimatLi
	ebe<br><br><br>Weitere Informationen:<br><a href="https://buergerverein-li
	nn.de/">https://buergerverein-linn.de/</a><br>
BEGIN:VALARM
ACTION:DISPLAY
DESCRIPTION:Heimat Maat – Der Feierabendmarkt in Krefeld Linn | Sa. 09. Mai
	 2026
TRIGGER:-PT1H
END:VALARM
END:VEVENT
END:VCALENDAR
