BEGIN:VCALENDAR
VERSION:2.0
CALSCALE:GREGORIAN
PRODID:adamgibbons/ics
METHOD:PUBLISH
X-PUBLISHED-TTL:PT1H
BEGIN:VEVENT
UID:4481@kiktik.de
SUMMARY:Grünkohl & Pinkel - Rhine Side Open Air
DTSTAMP:20260424T063427Z
DTSTART:20260622T170000Z
DTEND:20260622T190000Z
DESCRIPTION:\nAuch in diesem Sommer macht die Grünkohl & Pinkel Show wieder
	 an drei Terminen\nStation im kultigen Biergarten am Rheinufer. Jeweils dr
	ei Künstler werden pro\nAbend für beste Stimmung sorgen. Dazu Sand unter d
	en Füßen\, erfrischende Drinks\nund leckere Snacks - was will man mehr?\nG
	enießt den Sommer an der frischen Luft mit viel Humor und bester Live\nUnt
	erhaltung!\nMo.\, 22.06.2026\nMit Onkel Fisch · Knacki Deuser und El Mago 
	Masin\nMo.\, 13.07.2026\nMit Vera Deckers · Roberto Capitoni und Der ungla
	ubliche Heinz\nMo.\, 17.08.2026\nMit Matthias Jung · David Werker und Helm
	ut Sanftenschneider\n(Änderungen vorbehalten)\nTicket: 32 Euro\nSchüler/St
	udenten: 24 Euro\nunter\nwww.gruenkohl-show.chayns.site [http://www.gruenk
	ohl-show.chayns.site]\nOder per E-Mail an\ninfo@printmedia-man.de\nTel.: 0
	2151-546808 (AB)\nVVK-Stelle (+2 Euro):\nBockumer Buchhandlung · Uerdinger
	 Str. 608 · 02151-1585851\nEinlass ab 17:30 Uhr · Show-Beginn ca. 19:00 Uh
	r\n\n\nWeitere Informationen:\nhttp://www.gruenkohl-show.chayns.site [http
	://www.gruenkohl-show.chayns.site]\n
URL:https://kiktik.de/event/grunkohl-and-pinkel-rhine-side-open-air
LOCATION:Dammstraße 8 - 18 Krefeld\, Nordrhein-Westfalen 47829 Germany - si
	ehe Quelle
STATUS:CONFIRMED
CATEGORIES:KREFELD
X-ALT-DESC;FMTTYPE=text/html:<br>Auch in diesem Sommer macht die Grünkohl &
	amp; Pinkel Show wieder an drei Terminen Station im kultigen Biergarten am
	 Rheinufer. Jeweils drei Künstler werden pro Abend für beste Stimmung sorg
	en. Dazu Sand unter den Füßen, erfrischende Drinks und leckere Snacks - wa
	s will man mehr?<br>Genießt den Sommer an der frischen Luft mit viel Humor
	 und bester Live Unterhaltung!<br>Mo., 22.06.2026<br>Mit Onkel Fisch · Kna
	cki Deuser und El Mago Masin<br>Mo., 13.07.2026<br>Mit Vera Deckers · Robe
	rto Capitoni und Der unglaubliche Heinz<br>Mo., 17.08.2026<br>Mit Matthias
	 Jung · David Werker und Helmut Sanftenschneider<br>(Änderungen vorbehalte
	n)<br>Ticket: 32 Euro<br>Schüler/Studenten: 24 Euro<br>unter<br><a href="h
	ttp://www.gruenkohl-show.chayns.site" target="_blank">www.gruenkohl-show.c
	hayns.site</a><br>Oder per E-Mail an<br>info@printmedia-man.de<br>Tel.: 02
	151-546808 (AB)<br>VVK-Stelle (+2 Euro):<br>Bockumer Buchhandlung · Uerdin
	ger Str. 608 · 02151-1585851<br>Einlass ab 17:30 Uhr · Show-Beginn ca. 19:
	00 Uhr<br><br><br>Weitere Informationen:<br><a href="http://www.gruenkohl-
	show.chayns.site">http://www.gruenkohl-show.chayns.site</a><br>
BEGIN:VALARM
ACTION:DISPLAY
DESCRIPTION:Grünkohl & Pinkel - Rhine Side Open Air
TRIGGER:-PT1H
END:VALARM
END:VEVENT
END:VCALENDAR
