BEGIN:VCALENDAR
VERSION:2.0
CALSCALE:GREGORIAN
PRODID:adamgibbons/ics
METHOD:PUBLISH
X-PUBLISHED-TTL:PT1H
BEGIN:VEVENT
UID:4257@kiktik.de
SUMMARY:Eröffnung: MARKUS LÜPERTZ – Grafische Arbeiten und Plastik
DTSTAMP:20260422T065158Z
DTSTART:20260508T170000Z
DESCRIPTION:\n\n\nWir laden Sie und Ihre Freunde herzlich zur Eröffnung der
	 Ausstellung\n\nMARKUS LÜPERTZ GRAFISCHE ARBEITEN UND PLASTIK\nam 08. Mai 
	2026 um 19 Uhr ins Buschhüterhaus ein.\nBegrüßung: Dr. Katharine Leiska (K
	ulturbeauftragte der Stadt Krefeld)\nThomas Müller (Vorstandsvorsitzender 
	Krefelder Kunstverein)\nEröffnungsrede: Stefan Skowron\, Potsdam\nMusik: P
	eter Josteit\, Saxophon\nBegleitende Veranstaltungen:\n• Führungen jeweils
	 sonntags um 11.30 Uhr: 17. Mai\, 07. Juni\, 05.Juli\n• Finissage: 19. Jul
	i 2026\, 11–13 Uhr\nBildangaben:\nMarkus Lüpertz\, „Umbrische Landschaften
	“\, 2022\, ©VG Bild-Kunst\, Bonn 2026\nFoto: Giulio Coscia\, Mönchengladba
	ch\nGefördert durch Wohnstätte Krefeld\, Wohnungs-AG\nBürozeiten:\nDiensta
	g 11 – 13 Uhr\nDonnerstag 16 – 18 Uhr\nAusstellungszeiten:\nDienstag und S
	onntag  11 – 13 Uhr\nDonnerstag 16 – 18 Uhr\n\n\n\n\nWeitere Informationen
	:\nhttps://www.krefelder-kunstverein.de/aktuelles/markus-luepertz-grafisch
	e-arbeiten-und-plastik/\n[https://www.krefelder-kunstverein.de/aktuelles/m
	arkus-luepertz-grafische-arbeiten-und-plastik/]\n
URL:https://kiktik.de/event/eroffnung-markus-lupertz-grafische-arbeiten-und
	-plastik
LOCATION:siehe Website - siehe Quelle
STATUS:CONFIRMED
CATEGORIES:KREFELD,Ausstellung,Musik
X-ALT-DESC;FMTTYPE=text/html:<br><br><br>Wir laden Sie und Ihre Freunde her
	zlich zur Eröffnung der Ausstellung<br><br>MARKUS LÜPERTZ GRAFISCHE ARBEIT
	EN UND PLASTIK<br>am 08. Mai 2026 um 19 Uhr ins Buschhüterhaus ein.<br>Beg
	rüßung: Dr. Katharine Leiska (Kulturbeauftragte der Stadt Krefeld)<br>Thom
	as Müller (Vorstandsvorsitzender Krefelder Kunstverein)<br>Eröffnungsrede:
	 Stefan Skowron, Potsdam<br>Musik: Peter Josteit, Saxophon<br>Begleitende 
	Veranstaltungen:<br>• Führungen jeweils sonntags um 11.30 Uhr: 17. Mai, 07
	. Juni, 05.Juli<br>• Finissage: 19. Juli 2026, 11–13 Uhr<br>Bildangaben:<b
	r>Markus Lüpertz, „Umbrische Landschaften“, 2022, ©VG Bild-Kunst, Bonn 202
	6<br>Foto: Giulio Coscia, Mönchengladbach<br>Gefördert durch Wohnstätte Kr
	efeld, Wohnungs-AG<br>Bürozeiten:<br>Dienstag 11 – 13 Uhr<br>Donnerstag 16
	 – 18 Uhr<br>Ausstellungszeiten:<br>Dienstag und Sonntag&nbsp; 11 – 13 Uhr
	<br>Donnerstag 16 – 18 Uhr<br><br><br><br><br>Weitere Informationen:<br><a
	 href="https://www.krefelder-kunstverein.de/aktuelles/markus-luepertz-graf
	ische-arbeiten-und-plastik/">https://www.krefelder-kunstverein.de/aktuelle
	s/markus-luepertz-grafische-arbeiten-und-plastik/</a><br>
BEGIN:VALARM
ACTION:DISPLAY
DESCRIPTION:Eröffnung: MARKUS LÜPERTZ – Grafische Arbeiten und Plastik
TRIGGER:-PT1H
END:VALARM
END:VEVENT
END:VCALENDAR
