BEGIN:VCALENDAR
VERSION:2.0
CALSCALE:GREGORIAN
PRODID:adamgibbons/ics
METHOD:PUBLISH
X-PUBLISHED-TTL:PT1H
BEGIN:VEVENT
UID:4168@kiktik.de
SUMMARY:Eclipse x Container 44
DTSTAMP:20260422T064444Z
DTSTART:20260425T130000Z
DTEND:20260425T230000Z
DESCRIPTION:\nHello Hello\,\nnach drei erfolgreichen Events im letzten Jahr
	 mit über 500 Gästen geht es jetzt\nins nächste Jahr. Dieses Mal in einer 
	neuen Location\, wie es sie in Krefeld\nbisher noch nicht gab. Container 4
	4\, im Großmarkt Krefeld.\n\n\nWeitere Informationen:\nhttps://ra.co/event
	s/2337909 [https://ra.co/events/2337909]\n
URL:https://kiktik.de/event/eclipse-x-container-44
LOCATION:Oppumer Straße 175 - Oppumer Straße 175\, 47799 Krefeld
STATUS:CONFIRMED
CATEGORIES:KREFELD
X-ALT-DESC;FMTTYPE=text/html:<br>Hello Hello,<br>nach drei erfolgreichen Ev
	ents im letzten Jahr mit über 500 Gästen geht es jetzt ins nächste Jahr. D
	ieses Mal in einer neuen Location, wie es sie in Krefeld bisher noch nicht
	 gab. Container 44, im Großmarkt Krefeld.<br><br><br>Weitere Informationen
	:<br><a href="https://ra.co/events/2337909">https://ra.co/events/2337909</
	a><br>
BEGIN:VALARM
ACTION:DISPLAY
DESCRIPTION:Eclipse x Container 44
TRIGGER:-PT1H
END:VALARM
END:VEVENT
END:VCALENDAR
