BEGIN:VCALENDAR
VERSION:2.0
CALSCALE:GREGORIAN
PRODID:adamgibbons/ics
METHOD:PUBLISH
X-PUBLISHED-TTL:PT1H
BEGIN:VEVENT
UID:4234@kiktik.de
SUMMARY:DI.DAY Krefeld - Fediverse Edition
DTSTAMP:20260424T063305Z
DTSTART:20260503T120000Z
DTEND:20260503T160000Z
DESCRIPTION:Themenschwerpunkt diesmal: Fediverse – die freie Alternative.\n
	\nFalls du wissen möchtest\, wie freies Social Media funktioniert oder du 
	direkt\neinsteigen möchtest\, ist dieser Tag richtig für dich.\n\nJede:r i
	st herzlich willkommen. Bringt eure Fragen und Lösungen mit. Gemäß dem\nGr
	undsatz alle für alle helfen wir uns gegenseitig und schaffen gemeinsam\nV
	eränderung. Technische Vorkenntnisse sind nicht erforderlich.\n\nWeitere I
	nfos:\nhttps://di.day [https://di.day]\n\nWeitere Informationen:\nhttps://
	feedbeat.io/diday/ [https://feedbeat.io/diday/]\n
URL:https://kiktik.de/event/diday-krefeld-fediverse-edition
LOCATION:K+ Cafe - Joseph-Beuys-Platz 1\, 47798 Krefeld
STATUS:CONFIRMED
CATEGORIES:KREFELD,DIGITALES
X-ALT-DESC;FMTTYPE=text/html:Themenschwerpunkt diesmal: Fediverse – die fre
	ie Alternative.<br><br><br><br>Falls du wissen möchtest, wie freies Social
	 Media funktioniert oder du direkt einsteigen möchtest, ist dieser Tag ric
	htig für dich.<br><br><br><br>Jede:r ist herzlich willkommen. Bringt eure 
	Fragen und Lösungen mit. Gemäß dem Grundsatz alle für alle helfen wir uns 
	gegenseitig und schaffen gemeinsam Veränderung. Technische Vorkenntnisse s
	ind nicht erforderlich.<br><br><br><br>Weitere Infos:<br><br><a href="http
	s://di.day" target="_blank">https://di.day</a><br><br>Weitere Informatione
	n:<br><a href="https://feedbeat.io/diday/">https://feedbeat.io/diday/</a><
	br>
BEGIN:VALARM
ACTION:DISPLAY
DESCRIPTION:DI.DAY Krefeld - Fediverse Edition
TRIGGER:-PT1H
END:VALARM
END:VEVENT
END:VCALENDAR
