BEGIN:VCALENDAR
VERSION:2.0
CALSCALE:GREGORIAN
PRODID:adamgibbons/ics
METHOD:PUBLISH
X-PUBLISHED-TTL:PT1H
BEGIN:VEVENT
UID:4241@kiktik.de
SUMMARY:designberufe rufen!
DTSTAMP:20260422T064450Z
DTSTART:20260506T090000Z
DTEND:20260506T130000Z
DESCRIPTION:\nAm Fachbereich Design der Hochschule Niederrhein gibt es einm
	al jährlich ein\nganz besonderes Angebot für alle Studierenden\, Absolvent
	:innen und\nStudieninteressierten: die Berufseinstieg- und Karrieremesse »
	designberufe\nrufen!«. Dort erhalten die Studierenden Einblicke und Kontak
	te in die\nexpandierende Arbeitswelt der Designwirtschaft.\nDas an einem D
	esign-Campus in Nordrhein-Westfalen einzigartige Format\, bringt\nPraktike
	r\, Theoretiker und Studierende zusammen. Die Messe unterstützt die\nStudi
	erenden\, Absovent:innen und junge Kreative bei ihrem Schritt in die\nBeru
	fswelt.\nDie nächste »designberufe rufen!« findet am 06.05.2026 in der Zei
	t von 11:00 Uhr\n- 15:00 Uhr in der Shedhalle des Fachbereichs Design am F
	rankenring 20\, 47798\nKrefeld\, statt.\nWeitere Infos\, auch zu den Ausst
	eller:innen demnächst auf unserer Website unter\ndem folgenden Link:\nhttp
	s://www.hs-niederrhein.de/design/studierende/designberufe-rufen/\n[https:/
	/www.hs-niederrhein.de/design/studierende/designberufe-rufen/]\n\n\nWeiter
	e Informationen:\nhttps://www.hs-niederrhein.de/design/studierende/designb
	erufe-rufen/\n[https://www.hs-niederrhein.de/design/studierende/designberu
	fe-rufen/]\n
URL:https://kiktik.de/event/designberufe-rufen
LOCATION:Frankenring 20 - Frankenring 20\, 47798 Krefeld
STATUS:CONFIRMED
CATEGORIES:KREFELD
X-ALT-DESC;FMTTYPE=text/html:<br>Am Fachbereich Design der Hochschule Niede
	rrhein gibt es einmal jährlich ein ganz besonderes Angebot für alle Studie
	renden, Absolvent:innen und Studieninteressierten: die Berufseinstieg- und
	 Karrieremesse »designberufe rufen!«. Dort erhalten die Studierenden Einbl
	icke und Kontakte in die expandierende Arbeitswelt der Designwirtschaft.<b
	r>Das an einem Design-Campus in Nordrhein-Westfalen einzigartige Format, b
	ringt Praktiker, Theoretiker und Studierende zusammen. Die Messe unterstüt
	zt die Studierenden, Absovent:innen und junge Kreative bei ihrem Schritt i
	n die Berufswelt.<br>Die nächste »designberufe rufen!« findet am 06.05.202
	6 in der Zeit von 11:00 Uhr - 15:00 Uhr in der Shedhalle des Fachbereichs 
	Design am Frankenring 20, 47798 Krefeld, statt.<br>Weitere Infos, auch zu 
	den Aussteller:innen demnächst auf unserer Website unter dem folgenden Lin
	k:<br><a href="https://www.hs-niederrhein.de/design/studierende/designberu
	fe-rufen/" target="_blank">https://www.hs-niederrhein.de/design/studierend
	e/designberufe-rufen/</a><br><br><br>Weitere Informationen:<br><a href="ht
	tps://www.hs-niederrhein.de/design/studierende/designberufe-rufen/">https:
	//www.hs-niederrhein.de/design/studierende/designberufe-rufen/</a><br>
BEGIN:VALARM
ACTION:DISPLAY
DESCRIPTION:designberufe rufen!
TRIGGER:-PT1H
END:VALARM
END:VEVENT
END:VCALENDAR
