BEGIN:VCALENDAR
VERSION:2.0
CALSCALE:GREGORIAN
PRODID:adamgibbons/ics
METHOD:PUBLISH
X-PUBLISHED-TTL:PT1H
BEGIN:VEVENT
UID:4420@kiktik.de
SUMMARY:Der Rhein fließt ins Mittelmeer
DTSTAMP:20260424T063615Z
DTSTART:20260609T173000Z
DTEND:20260609T193000Z
DESCRIPTION:Dokumentarfilm\n\n\nIsrael 2021\n\n\n95 Minuten\n\nEnglisch\, D
	eutsch\, Hebräisch\,Polnisch\n\nUntertitel: Englisch\nZehn Jahre lebte der
	 Filmemacher Offer Avnon in Deutschland\, ehe er wieder in\nseine Heimat n
	ach Haifa zurückkehrte. Er lässt nun seine Zeit zwischen Rhein und\nNeiße 
	Revue passieren\, wo er „die schöne Sprache des ehemaligen Erzfeindes“\ner
	warb. Dabei sieht er auch seine eigene Heimat mit ganz anderen Augen.\nEnt
	standen ist dabei eine Montage von Gesprächen\, Landschaften und Gegenstän
	den.\nAlle gefunden irgendwo zwischen Deutschland\, Polen und Israel.\nHom
	e\n\n\nEinlass um 19 Uhr\nEintritt kostenfrei\n\n\nReservierung\n\n\n\n\n\
	n\n\n\n\n\n\n\nBei allen Veranstaltungen in unseren Häusern gilt das jewei
	lige Hygienekonzept:\nfür den Südbahnhof • für das Werkhaus\n\nBitte alle 
	Felder vollständig ausfüllen.\nBitte lasse dieses Feld leer.\n\nVeranstalt
	ungsdatum\n09.06.2026\, 19:30 Uhr\n\nDein Name\n\nE-Mail-Adresse\nTelefonn
	ummer\n\nAnzahl der Tickets\n\n\nDeine Kontaktdaten werden ausschließlich 
	für die Bearbeitung der Reservierung\nbenötigt\, nicht dauerhaft gespeiche
	rt und nicht an Dritte weitergegeben.\nDatenschutzerklärung\n\nMit der Nut
	zung dieses Formulars erklärst du dich mit der Speicherung und\nVerarbeitu
	ng deiner Daten durch den Werkhaus e. V. einverstanden.\n\nWeitere Informa
	tionen:\nhttps://werkhaus-krefeld.de/der-rhein-fliesst-ins-mittelmeer/\n[h
	ttps://werkhaus-krefeld.de/der-rhein-fliesst-ins-mittelmeer/]\n
URL:https://kiktik.de/event/der-rhein-fliesst-ins-mittelmeer
LOCATION:Werkbühne - Saumstraße 9\, 47805 Krefeld
STATUS:CONFIRMED
CATEGORIES:KREFELD,FILM
X-ALT-DESC;FMTTYPE=text/html:Dokumentarfilm<br><br><br>Israel 2021<br><br><
	br>95 Minuten<br><br>Englisch, Deutsch, Hebräisch,Polnisch<br><br>Untertit
	el: Englisch<br>Zehn Jahre lebte der Filmemacher Offer Avnon in Deutschlan
	d, ehe er wieder in seine Heimat nach Haifa zurückkehrte. Er lässt nun sei
	ne Zeit zwischen Rhein und Neiße Revue passieren, wo er „die schöne Sprach
	e des ehemaligen Erzfeindes“ erwarb. Dabei sieht er auch seine eigene Heim
	at mit ganz anderen Augen. Entstanden ist dabei eine Montage von Gespräche
	n, Landschaften und Gegenständen. Alle gefunden irgendwo zwischen Deutschl
	and, Polen und Israel.<br>Home<br><br><br>Einlass um 19 Uhr<br>Eintritt ko
	stenfrei<br><br><br>Reservierung<br><br> <br><br><br><br><br><br><br><br><
	br><br><br>Bei allen Veranstaltungen in unseren Häusern gilt das jeweilige
	 Hygienekonzept: für den Südbahnhof • für das Werkhaus<br><br>Bitte alle F
	elder vollständig ausfüllen.<br>Bitte lasse dieses Feld leer.<br><br>Veran
	staltungsdatum<br>09.06.2026, 19:30 Uhr<br><br>Dein Name<br><br>E-Mail-Adr
	esse<br>Telefonnummer<br><br>Anzahl der Tickets<br><br><br>Deine Kontaktda
	ten werden ausschließlich für die Bearbeitung der Reservierung benötigt, n
	icht dauerhaft gespeichert und nicht an Dritte weitergegeben. Datenschutze
	rklärung<br><br>Mit der Nutzung dieses Formulars erklärst du dich mit der 
	Speicherung und Verarbeitung deiner Daten durch den Werkhaus e. V. einvers
	tanden.<br><br>Weitere Informationen:<br><a href="https://werkhaus-krefeld
	.de/der-rhein-fliesst-ins-mittelmeer/">https://werkhaus-krefeld.de/der-rhe
	in-fliesst-ins-mittelmeer/</a><br>
BEGIN:VALARM
ACTION:DISPLAY
DESCRIPTION:Der Rhein fließt ins Mittelmeer
TRIGGER:-PT1H
END:VALARM
END:VEVENT
END:VCALENDAR
