BEGIN:VCALENDAR
VERSION:2.0
CALSCALE:GREGORIAN
PRODID:adamgibbons/ics
METHOD:PUBLISH
X-PUBLISHED-TTL:PT1H
BEGIN:VEVENT
UID:4201@kiktik.de
SUMMARY:DE MAI KÜTT
DTSTAMP:20260422T064450Z
DTSTART:20260430T153000Z
DTEND:20260501T010000Z
DESCRIPTION:\nTanz in den Mai Party im Fischelner Burghof.\nKarten mit BBQ 
	ab 17:30 Uhr\nKarten ohne BBQ ab 20 Uhr.\n\n\nWeitere Informationen:\nhttp
	s://www.zum-fischelner-burghof.de/ [https://www.zum-fischelner-burghof.de/
	]\n
URL:https://kiktik.de/event/de-mai-kutt
LOCATION:Marienstraße 108 - Marienstraße 108\, 47807 Krefeld
STATUS:CONFIRMED
CATEGORIES:KREFELD,Party,TANZ
X-ALT-DESC;FMTTYPE=text/html:<br>Tanz in den Mai Party im Fischelner Burgho
	f.<br>Karten mit BBQ ab 17:30 Uhr<br>Karten ohne BBQ ab 20 Uhr.<br><br><br
	>Weitere Informationen:<br><a href="https://www.zum-fischelner-burghof.de/
	">https://www.zum-fischelner-burghof.de/</a><br>
BEGIN:VALARM
ACTION:DISPLAY
DESCRIPTION:DE MAI KÜTT
TRIGGER:-PT1H
END:VALARM
END:VEVENT
END:VCALENDAR
