BEGIN:VCALENDAR
VERSION:2.0
CALSCALE:GREGORIAN
PRODID:adamgibbons/ics
METHOD:PUBLISH
X-PUBLISHED-TTL:PT1H
BEGIN:VEVENT
UID:4508@kiktik.de
SUMMARY:Das Junge Theater verabschiedet sich
DTSTAMP:20260423T080458Z
DTSTART:20260707T173000Z
DESCRIPTION:Das Thema Abschiednehmen begleitet Bühnenmenschen Zeit ihres Le
	bens: schon in\njungen Jahren müssen sie oft Familie und Heimat verlassen\
	, um den Traum von\neinem Beruf am Theater oder in einem Orchester zu verw
	irklichen. Und auch\nwährend der Karriere zieht man immer wieder von einem
	 zum nächsten Engagement\nweiter. So wird es auch am Ende dieser Spielzeit
	 2025/26 einigen Mitgliedern des\nJungen Theaters ergehen\, wenn ihre Zeit
	 im Jungen Theater Krefeld\nMönchengladbach zu Ende geht und sie sich aufm
	achen in ihre künstlerische\nZukunft.\n\nWeitere Informationen:\nhttps://t
	heater-kr-mg.de/spielplan/das-junge-theater-25-26/\n[https://theater-kr-mg
	.de/spielplan/das-junge-theater-25-26/]\n
URL:https://kiktik.de/event/das-junge-theater-verabschiedet-sich-1
LOCATION:Theater Krefeld - Theaterplatz 3\, 47798 Krefeld
STATUS:CONFIRMED
CATEGORIES:KREFELD,Musik,Theater
X-ALT-DESC;FMTTYPE=text/html:Das Thema Abschiednehmen begleitet Bühnenmensc
	hen Zeit ihres Lebens: schon in jungen Jahren müssen sie oft Familie und H
	eimat verlassen, um den Traum von einem Beruf am Theater oder in einem Orc
	hester zu verwirklichen. Und auch während der Karriere zieht man immer wie
	der von einem zum nächsten Engagement weiter. So wird es auch am Ende dies
	er Spielzeit 2025/26 einigen Mitgliedern des Jungen Theaters ergehen, wenn
	 ihre Zeit im Jungen Theater Krefeld Mönchengladbach zu Ende geht und sie 
	sich aufmachen in ihre künstlerische Zukunft.<br><br>Weitere Informationen
	:<br><a href="https://theater-kr-mg.de/spielplan/das-junge-theater-25-26/"
	>https://theater-kr-mg.de/spielplan/das-junge-theater-25-26/</a><br>
BEGIN:VALARM
ACTION:DISPLAY
DESCRIPTION:Das Junge Theater verabschiedet sich
TRIGGER:-PT1H
END:VALARM
END:VEVENT
END:VCALENDAR
