BEGIN:VCALENDAR
VERSION:2.0
CALSCALE:GREGORIAN
PRODID:adamgibbons/ics
METHOD:PUBLISH
X-PUBLISHED-TTL:PT1H
BEGIN:VEVENT
UID:4226@kiktik.de
SUMMARY:BUND-Radtour in den Krefelder Nordbezirk
DTSTAMP:20260423T081110Z
DTSTART:20260503T080000Z
DTEND:20260503T110000Z
DESCRIPTION:Einladung zur BUND-Radtour\nDie BUND Kreisgruppe Krefeld lädt e
	in zu einer ca. 1-stündigen Radtour in den\nKrefelder Nordbezirk\, das Hül
	ser Bruch und über den Hülser Berg zum Krefelder\nUmweltzentrum (Talring 4
	5). Dort erhalten die Teilnehmer*Innen eine Führung\ndurch das Zentrum mit
	 der Leiterin\, Frau Jana Behling. Zum Abschluß gibt es noch\nInformatione
	n über die Aufgaben und zukünftige Entwicklung des Umweltzentrums.\nDie Ve
	ranstaltung dauert insgesamt ca. 3 Stunden. Interessierte\, die nur an der
	\nFührung teilnehmen wollen\, sind bitte gegen 11:00 Uhr im Umweltzentrum.
	\nAnmeldungen bitte bei Axel Heimendahl über wulff.heimendahl(at)t-online.
	de\n[http://t-online.de]\n\nWeitere Informationen:\nhttps://www.aktionskre
	is-fahr-rad.de/event/bund-radtour-in-den-krefelder-nordbezirk/\n[https://w
	ww.aktionskreis-fahr-rad.de/event/bund-radtour-in-den-krefelder-nordbezirk
	/]\n
URL:https://kiktik.de/event/bund-radtour-in-den-krefelder-nordbezirk
LOCATION:Rathaus - siehe Quelle
STATUS:CONFIRMED
CATEGORIES:KREFELD,FAHRRAD
X-ALT-DESC;FMTTYPE=text/html:Einladung zur BUND-Radtour<br>Die BUND Kreisgr
	uppe Krefeld lädt ein zu einer ca. 1-stündigen Radtour in den Krefelder No
	rdbezirk, das Hülser Bruch und über den Hülser Berg zum Krefelder Umweltze
	ntrum (Talring 45). Dort erhalten die Teilnehmer*Innen eine Führung durch 
	das Zentrum mit der Leiterin, Frau Jana Behling. Zum Abschluß gibt es noch
	 Informationen über die Aufgaben und zukünftige Entwicklung des Umweltzent
	rums. Die Veranstaltung dauert insgesamt ca. 3 Stunden. Interessierte, die
	 nur an der Führung teilnehmen wollen, sind bitte gegen 11:00 Uhr im Umwel
	tzentrum.<br>Anmeldungen bitte bei Axel Heimendahl über wulff.heimendahl(a
	t)<a href="http://t-online.de" target="_blank">t-online.de</a><br><br>Weit
	ere Informationen:<br><a href="https://www.aktionskreis-fahr-rad.de/event/
	bund-radtour-in-den-krefelder-nordbezirk/">https://www.aktionskreis-fahr-r
	ad.de/event/bund-radtour-in-den-krefelder-nordbezirk/</a><br>
BEGIN:VALARM
ACTION:DISPLAY
DESCRIPTION:BUND-Radtour in den Krefelder Nordbezirk
TRIGGER:-PT1H
END:VALARM
END:VEVENT
END:VCALENDAR
