BEGIN:VCALENDAR
VERSION:2.0
CALSCALE:GREGORIAN
PRODID:adamgibbons/ics
METHOD:PUBLISH
X-PUBLISHED-TTL:PT1H
BEGIN:VEVENT
UID:4137@kiktik.de
SUMMARY:Biertag! feat. Darttraining
DTSTAMP:20260420T085754Z
DTSTART:20260421T170000Z
DTEND:20260421T210000Z
DESCRIPTION:\nDienstag wird bei uns zum perfekten Feierabendtreff für alle 
	Bierliebhaber und\nDartfans. Beim Biertag & Darttraining könnt ihr den Abe
	nd ganz entspannt in\nunserer Bar verbringen\, neue Leute kennenlernen\, e
	in paar Pfeile werfen und\nnatürlich gutes Bier genießen.\nDas Beste daran
	: Jedes Bier ist an diesem Abend 1 Euro günstiger. Perfekt also\,\num euch
	 durch verschiedene Sorten zu probieren oder einfach gemeinsam mit\nFreund
	en anzustoßen.\nParallel dazu läuft unser Darttraining. Egal ob ihr Anfäng
	er seid\, einfach mal\nausprobieren wollt oder schon regelmäßig spielt. Ih
	r könnt jederzeit dazukommen\,\nein paar Runden werfen\, euch Tipps holen 
	oder euch mit anderen messen. Bei uns\nsteht der Spaß am Spiel im Vordergr
	und und jeder ist willkommen.\nKommt vorbei\, schnappt euch ein günstiges 
	Bier\, stellt euch ans Board und lasst\nden Dienstag zu eurem neuen Liebli
	ngs-Barabend werden. 🍻🎯\n\n\nWeitere Informationen:\nhttps://taketv.net/ho
	me/bar/ [https://taketv.net/home/bar/]\n
URL:https://kiktik.de/event/biertag-feat-darttraining
LOCATION:Alte Linner Straße 93-97 - Alte Linner Straße 93-97\, 47799 Krefel
	d
STATUS:CONFIRMED
CATEGORIES:KREFELD
X-ALT-DESC;FMTTYPE=text/html:<br>Dienstag wird bei uns zum perfekten Feiera
	bendtreff für alle Bierliebhaber und Dartfans. Beim Biertag &amp; Darttrai
	ning könnt ihr den Abend ganz entspannt in unserer Bar verbringen, neue Le
	ute kennenlernen, ein paar Pfeile werfen und natürlich gutes Bier genießen
	.<br>Das Beste daran: Jedes Bier ist an diesem Abend 1 Euro günstiger. Per
	fekt also, um euch durch verschiedene Sorten zu probieren oder einfach gem
	einsam mit Freunden anzustoßen.<br>Parallel dazu läuft unser Darttraining.
	 Egal ob ihr Anfänger seid, einfach mal ausprobieren wollt oder schon rege
	lmäßig spielt. Ihr könnt jederzeit dazukommen, ein paar Runden werfen, euc
	h Tipps holen oder euch mit anderen messen. Bei uns steht der Spaß am Spie
	l im Vordergrund und jeder ist willkommen.<br>Kommt vorbei, schnappt euch 
	ein günstiges Bier, stellt euch ans Board und lasst den Dienstag zu eurem 
	neuen Lieblings-Barabend werden. 🍻🎯<br><br><br>Weitere Informationen:<br><
	a href="https://taketv.net/home/bar/">https://taketv.net/home/bar/</a><br>
BEGIN:VALARM
ACTION:DISPLAY
DESCRIPTION:Biertag! feat. Darttraining
TRIGGER:-PT1H
END:VALARM
END:VEVENT
END:VCALENDAR
