BEGIN:VCALENDAR
VERSION:2.0
CALSCALE:GREGORIAN
PRODID:adamgibbons/ics
METHOD:PUBLISH
X-PUBLISHED-TTL:PT1H
BEGIN:VEVENT
UID:4427@kiktik.de
SUMMARY:BeachBrause
DTSTAMP:20260422T064349Z
DTSTART:20260613T150000Z
DTEND:20260614T000000Z
DESCRIPTION:\nAlle guten Dinge sind bekanntlich drei! Nach dem Erfolg der\n
	vergangenen beiden Jahre startet bereits am 13.Juni.2026 das BeachBrause\n
	Festival in die dritte\nRunde. Das Open-Air-Event unter der Trägerschaft d
	er Evangelischen\nKirchengemeinde St. Tönis\nlädt erneut zu einem Musikfes
	tival für alle Generationen. Die ersten Acts\nspielen ab 17 Uhr auf\ndem G
	elände an der Hülserstraße 57a in 47918 Tönisvorst.\nAuch in diesem Jahr e
	rwartet die Besucher ein vielfältiges musikalisches\nProgramm\, von Poetry
	\nSlam\, Singer- Songwriter\, Bands verschiedenster Genres und einem DJ-Du
	o\, das den\nFestival-\nBesucher*innen in den Abendstunden noch einmal ord
	entlich einheizt.\nWährend die Bands auf der Hauptbühne spielen\, treten d
	ie Singer- Songwriter und\neine Poetry\nSlammerin auf der Kleinkunstbühne 
	auf.\nAuf der Hauptbühne mit dabei: Wir Sind Baend (Indie - Pop) aus Korsc
	henbroich \,\nBlack Orchid\n(Indie - Rock) aus Wesel \, NerdByNature (Hip-
	Hop / Rap) aus Duisburg\, Rever\n(Rock) aus\nOberhausen\, Miss Madison (In
	die – Rock - Folk) aus Mönchengladbach und Rock am\nRing Krefeld\n(Rock / 
	Pop) ein Inklusionsprojekt der Lebenshilfe Krefeld\nAuf der Kleinkunstbühn
	e spielen: Qukser\, Kira (beides Singer/Songwriter) und\nCelina (Poetry\nS
	lam).\nDas Funky Fungi Kollektiv lassen den Abend mit einem DJ Set ausklin
	gen\nTickets und weitere Informationen\nTickets\, können Online im VVK für
	 Menschen unter 18 Jahren bereits für 9€\nerworben werden\,\nErwachsene za
	hlen 14€. Tickets und weitere Informationen zur BeachBrause 2026\nfindet i
	hr auf\nunseren Social-Media-Kanälen (@tvbeachbrause) und unserer Website\
	nhttps://beachbrause.de/ [https://beachbrause.de/].\n\n\nWeitere Informati
	onen:\nhttps://beachbrause.de/ [https://beachbrause.de/]\n
URL:https://kiktik.de/event/beachbrause
LOCATION:Hülser Straße 57a - Hülser Straße 57a\, 47918 Tönisvorst
STATUS:CONFIRMED
CATEGORIES:KREFELD,Musik,GLAUBE
X-ALT-DESC;FMTTYPE=text/html:<br>Alle guten Dinge sind bekanntlich drei! Na
	ch dem Erfolg der<br>vergangenen beiden Jahre startet bereits am 13.Juni.2
	026 das BeachBrause Festival in die dritte<br>Runde. Das Open-Air-Event un
	ter der Trägerschaft der Evangelischen Kirchengemeinde St. Tönis<br>lädt e
	rneut zu einem Musikfestival für alle Generationen. Die ersten Acts spiele
	n ab 17 Uhr auf<br>dem Gelände an der Hülserstraße 57a in 47918 Tönisvorst
	.<br>Auch in diesem Jahr erwartet die Besucher ein vielfältiges musikalisc
	hes Programm, von Poetry<br>Slam, Singer- Songwriter, Bands verschiedenste
	r Genres und einem DJ-Duo, das den Festival-<br>Besucher*innen in den Aben
	dstunden noch einmal ordentlich einheizt.<br>Während die Bands auf der Hau
	ptbühne spielen, treten die Singer- Songwriter und eine Poetry<br>Slammeri
	n auf der Kleinkunstbühne auf.<br>Auf der Hauptbühne mit dabei: Wir Sind B
	aend (Indie - Pop) aus Korschenbroich , Black Orchid<br>(Indie - Rock) aus
	 Wesel , NerdByNature (Hip-Hop / Rap) aus Duisburg, Rever (Rock) aus<br>Ob
	erhausen, Miss Madison (Indie – Rock - Folk) aus Mönchengladbach und Rock 
	am Ring Krefeld<br>(Rock / Pop) ein Inklusionsprojekt der Lebenshilfe Kref
	eld<br>Auf der Kleinkunstbühne spielen: Qukser, Kira (beides Singer/Songwr
	iter) und Celina (Poetry<br>Slam).<br>Das Funky Fungi Kollektiv lassen den
	 Abend mit einem DJ Set ausklingen<br>Tickets und weitere Informationen<br
	>Tickets, können Online im VVK für Menschen unter 18 Jahren bereits für 9€
	 erworben werden,<br>Erwachsene zahlen 14€. Tickets und weitere Informatio
	nen zur BeachBrause 2026 findet ihr auf<br>unseren Social-Media-Kanälen (@
	tvbeachbrause) und unserer Website <a href="https://beachbrause.de/" targe
	t="_blank">https://beachbrause.de/</a>.<br><br><br>Weitere Informationen:<
	br><a href="https://beachbrause.de/">https://beachbrause.de/</a><br>
BEGIN:VALARM
ACTION:DISPLAY
DESCRIPTION:BeachBrause
TRIGGER:-PT1H
END:VALARM
END:VEVENT
END:VCALENDAR
