BEGIN:VCALENDAR
VERSION:2.0
CALSCALE:GREGORIAN
PRODID:adamgibbons/ics
METHOD:PUBLISH
X-PUBLISHED-TTL:PT1H
BEGIN:VEVENT
UID:4264@kiktik.de
SUMMARY:Ausgebucht: Das ist Esther
DTSTAMP:20260424T064113Z
DTSTART:20260508T173000Z
DTEND:20260508T173000Z
DESCRIPTION:„Meine Botschaft an euch: Vergesst uns und unsere Geschichte ni
	cht! Bewahrt sie\ngut auf und erzählt sie weiter. Und vor allem: Zieht die
	 richtige Lehre daraus\nfür euer Leben und für unsere Zukunft!“ (Esther Ba
	uer)\nDie Zuschauer warten gespannt auf Esther Bauer\, eine Zeitzeugin des
	 Holocaust.\nDoch sie taucht nicht auf. Stattdessen steht plötzlich ein ju
	nger\, etwas\nnervöser Mann im Raum. Er stellt sich als Sam vor\, Esthers 
	Enkel.\nKeiner weiß so recht\, was los ist. Dann öffnet Sam seine Tasche. 
	Darin: alte\nFotos\, Tonaufnahmen\, Erinnerungen – der Schlüssel zu einer 
	unglaublichen\nGeschichte. Zögernd beginnt er zu erzählen. Von seiner Oma\
	, die als junges\nMädchen in Deutschland aufwuchs\, dann in mehre Konzentr
	ationslager verschleppt\nwurde und überlebte. Von einer Frau\, die sich ni
	cht unterkriegen ließ und später\nnach Amerika auswanderte.\nSam bewundert
	 seine Großmutter\, aber er stellt sich auch viele Fragen. Wie\nkonnte sie
	 das alles ertragen? Und was bedeutet es für uns heute? Er nimmt die\nKlas
	se mit auf eine Reise in die Vergangenheit – eine Reise\, die fesselt\,\nb
	erührt und nachdenklich macht.\nEine Produktion vom Theater Krefeld und Mö
	nchengladbach\nEs spielt: Marc Scheufen\nInszenierung: Maren Gambusch\nAus
	stattung: Matthias Stutte\nDramaturgie: Esther Wissen\nMit Nachgespräch im
	 Anschluss\nEinlass ab 18:30 Uhr.\nFür den Eintritt steht eine Spendenbox 
	des Bündnis Krefeld für Demokratie und\nToleranz parat.\n\nDie Vorstellung
	 ist bereits ausgebucht. Kartenanfragen können daher nicht mehr\nberücksic
	htigt werden. Gegebenenfalls besteht jedoch die Möglichkeit\, am\nVeransta
	ltungstag ab 15 Minuten vor Beginn noch Restplätze zu erhalten.\nVielen Da
	nk für dein Verständnis\n \n\n\n\nReservierung\n\n\n\n\n\n\n\n\n\n\n\n\nBe
	i allen Veranstaltungen in unseren Häusern gilt das jeweilige Hygienekonze
	pt:\nfür den Südbahnhof • für das Werkhaus\n\nBitte alle Felder vollständi
	g ausfüllen.\nBitte lasse dieses Feld leer.\n\nVeranstaltungsdatum\n08.05.
	2026\, 19:30 Uhr\n\nDein Name\n\nE-Mail-Adresse\nTelefonnummer\n\nAnzahl d
	er Tickets\n\n\nDeine Kontaktdaten werden ausschließlich für die Bearbeitu
	ng der Reservierung\nbenötigt\, nicht dauerhaft gespeichert und nicht an D
	ritte weitergegeben.\nDatenschutzerklärung\n\nMit der Nutzung dieses Formu
	lars erklärst du dich mit der Speicherung und\nVerarbeitung deiner Daten d
	urch den Werkhaus e. V. einverstanden.\n\nWeitere Informationen:\nhttps://
	werkhaus-krefeld.de/das-ist-esther/\n[https://werkhaus-krefeld.de/das-ist-
	esther/]\n
URL:https://kiktik.de/event/ausgebucht-das-ist-esther
LOCATION:Werkbühne - Saumstraße 9\, 47805 Krefeld
STATUS:CONFIRMED
CATEGORIES:KREFELD,Theater
X-ALT-DESC;FMTTYPE=text/html:„Meine Botschaft an euch: Vergesst uns und uns
	ere Geschichte nicht! Bewahrt sie gut auf und erzählt sie weiter. Und vor 
	allem: Zieht die richtige Lehre daraus für euer Leben und für unsere Zukun
	ft!“ (Esther Bauer)<br>Die Zuschauer warten gespannt auf Esther Bauer, ein
	e Zeitzeugin des Holocaust. Doch sie taucht nicht auf. Stattdessen steht p
	lötzlich ein junger, etwas nervöser Mann im Raum. Er stellt sich als Sam v
	or, Esthers Enkel.<br>Keiner weiß so recht, was los ist. Dann öffnet Sam s
	eine Tasche. Darin: alte Fotos, Tonaufnahmen, Erinnerungen – der Schlüssel
	 zu einer unglaublichen Geschichte. Zögernd beginnt er zu erzählen. Von se
	iner Oma, die als junges Mädchen in Deutschland aufwuchs, dann in mehre Ko
	nzentrationslager verschleppt wurde und überlebte. Von einer Frau, die sic
	h nicht unterkriegen ließ und später nach Amerika auswanderte.<br>Sam bewu
	ndert seine Großmutter, aber er stellt sich auch viele Fragen. Wie konnte 
	sie das alles ertragen? Und was bedeutet es für uns heute? Er nimmt die Kl
	asse mit auf eine Reise in die Vergangenheit – eine Reise, die fesselt, be
	rührt und nachdenklich macht.<br>Eine Produktion vom Theater Krefeld und M
	önchengladbach<br>Es spielt: Marc Scheufen<br>Inszenierung: Maren Gambusch
	<br>Ausstattung: Matthias Stutte<br>Dramaturgie: Esther Wissen<br>Mit Nach
	gespräch im Anschluss<br>Einlass ab 18:30 Uhr.<br>Für den Eintritt steht e
	ine Spendenbox des Bündnis Krefeld für Demokratie und Toleranz parat.<br><
	br>Die Vorstellung ist bereits ausgebucht. Kartenanfragen können daher nic
	ht mehr berücksichtigt werden. Gegebenenfalls besteht jedoch die Möglichke
	it, am Veranstaltungstag ab 15 Minuten vor Beginn noch Restplätze zu erhal
	ten.<br>Vielen Dank für dein Verständnis<br>&nbsp;<br><br><br><br>Reservie
	rung<br><br> <br><br><br><br><br><br><br><br><br><br><br>Bei allen Veranst
	altungen in unseren Häusern gilt das jeweilige Hygienekonzept: für den Süd
	bahnhof • für das Werkhaus<br><br>Bitte alle Felder vollständig ausfüllen.
	<br>Bitte lasse dieses Feld leer.<br><br>Veranstaltungsdatum<br>08.05.2026
	, 19:30 Uhr<br><br>Dein Name<br><br>E-Mail-Adresse<br>Telefonnummer<br><br
	>Anzahl der Tickets<br><br><br>Deine Kontaktdaten werden ausschließlich fü
	r die Bearbeitung der Reservierung benötigt, nicht dauerhaft gespeichert u
	nd nicht an Dritte weitergegeben. Datenschutzerklärung<br><br>Mit der Nutz
	ung dieses Formulars erklärst du dich mit der Speicherung und Verarbeitung
	 deiner Daten durch den Werkhaus e. V. einverstanden.<br><br>Weitere Infor
	mationen:<br><a href="https://werkhaus-krefeld.de/das-ist-esther/">https:/
	/werkhaus-krefeld.de/das-ist-esther/</a><br>
BEGIN:VALARM
ACTION:DISPLAY
DESCRIPTION:Ausgebucht: Das ist Esther
TRIGGER:-PT1H
END:VALARM
END:VEVENT
END:VCALENDAR
